BEGIN:VCALENDAR
VERSION:2.0
PRODID:-//COC Noordoost-Brabant - ECPv6.15.18//NONSGML v1.0//EN
CALSCALE:GREGORIAN
METHOD:PUBLISH
X-ORIGINAL-URL:https://cocnoordoostbrabant.nl
X-WR-CALDESC:Evenementen voor COC Noordoost-Brabant
REFRESH-INTERVAL;VALUE=DURATION:PT1H
X-Robots-Tag:noindex
X-PUBLISHED-TTL:PT1H
BEGIN:VTIMEZONE
TZID:Europe/Amsterdam
BEGIN:DAYLIGHT
TZOFFSETFROM:+0100
TZOFFSETTO:+0200
TZNAME:CEST
DTSTART:20250330T010000
END:DAYLIGHT
BEGIN:STANDARD
TZOFFSETFROM:+0200
TZOFFSETTO:+0100
TZNAME:CET
DTSTART:20251026T010000
END:STANDARD
BEGIN:DAYLIGHT
TZOFFSETFROM:+0100
TZOFFSETTO:+0200
TZNAME:CEST
DTSTART:20260329T010000
END:DAYLIGHT
BEGIN:STANDARD
TZOFFSETFROM:+0200
TZOFFSETTO:+0100
TZNAME:CET
DTSTART:20261025T010000
END:STANDARD
BEGIN:DAYLIGHT
TZOFFSETFROM:+0100
TZOFFSETTO:+0200
TZNAME:CEST
DTSTART:20270328T010000
END:DAYLIGHT
BEGIN:STANDARD
TZOFFSETFROM:+0200
TZOFFSETTO:+0100
TZNAME:CET
DTSTART:20271031T010000
END:STANDARD
END:VTIMEZONE
BEGIN:VEVENT
DTSTART;TZID=Europe/Amsterdam:20260423T200000
DTEND;TZID=Europe/Amsterdam:20260423T213000
DTSTAMP:20260423T161320
CREATED:20241106T210453Z
LAST-MODIFIED:20241213T145101Z
UID:10001111-1776974400-1776979800@cocnoordoostbrabant.nl
SUMMARY:Volleybal
DESCRIPTION:Elke donderdag avond volleyballen. Voor iedereen\, zowel beginners als gevorderde .
URL:https://cocnoordoostbrabant.nl/event/volleybal/2026-04-23/
LOCATION:‘s-Hertogenbosch\, 's-Hertogenbosch
CATEGORIES:Sport
ATTACH;FMTTYPE=image/jpeg:https://cocnoordoostbrabant.nl/wordpress/wp-content/uploads/2024/11/IMG_8465.jpeg
ORGANIZER;CN="Regenboogsportclub Zoete Lieve Gerritje":MAILTO:info@zlgdenbosch.nl
END:VEVENT
BEGIN:VEVENT
DTSTART;TZID=Europe/Amsterdam:20260424T200000
DTEND;TZID=Europe/Amsterdam:20260424T230000
DTSTAMP:20260423T161320
CREATED:20251213T152032Z
LAST-MODIFIED:20251213T152032Z
UID:10002430-1777060800-1777071600@cocnoordoostbrabant.nl
SUMMARY:Gender+
DESCRIPTION:Iedere maand is er een bijeenkomst van Gender+. Een avond voor iedereen die transgender\, non-binair of op een andere manier genderdivers is.\n\nBij Gender+:\n\nontmoet je mensen die net zo zijn als jij\nkun je terecht met vragen over jouw genderidentiteit of jouw transitie\nnodigen we vaak gastsprekers uit met interessante onderwerpen\nhouden we soms een kledingruil waar je kleding kan doneren\, en gedoneerde kleding gratis mag meenemen\ndoen we vaak leuke dingen zoals een barbecue\, spelletjes of thema avonden\n\nGender+ is de op laatste vrijdag van iedere maand van 20:00 tot 23:00 in het Ketelhuis op de Tramkade.\nBen je onder de 18? Neem dan eerst even contact met ons op via ons e-mailadres. \nGenderplus@cocnoordoostbrabant.nl\nKom je ook eens langs? \nHelaas is het ketelhuis niet toegankelijk voor rolstoelgebruikers.
URL:https://cocnoordoostbrabant.nl/event/gender/2026-04-24/
LOCATION:COC – Ketelhuis\, Tramkade 26\, 's-Hertogenbosch\, Noord-Brabant\, 5211 VD
CATEGORIES:'s-Hertogenbosch,Genderdivers,Sociaal
ATTACH;FMTTYPE=image/png:https://cocnoordoostbrabant.nl/wordpress/wp-content/uploads/2025/12/Logo-Gender-Den-Bosch.png
ORGANIZER;CN="COC Noordoost-Brabant":MAILTO:info@cocnoordoostbrabant.nl
GEO:51.6956356;5.2985281
X-APPLE-STRUCTURED-LOCATION;VALUE=URI;X-ADDRESS=COC – Ketelhuis Tramkade 26 's-Hertogenbosch Noord-Brabant 5211 VD;X-APPLE-RADIUS=500;X-TITLE=Tramkade 26:geo:5.2985281,51.6956356
END:VEVENT
BEGIN:VEVENT
DTSTART;TZID=Europe/Amsterdam:20260425T093000
DTEND;TZID=Europe/Amsterdam:20260425T103000
DTSTAMP:20260423T161320
CREATED:20250216T121535Z
LAST-MODIFIED:20250216T121535Z
UID:10001848-1777109400-1777113000@cocnoordoostbrabant.nl
SUMMARY:Hardlopen met ZLG
DESCRIPTION:Elke zaterdagochtend om 9.30 uur loopt onze hardloopgroep het mooie rondje om de IJzeren Vrouw in het Prins Hendrikpark in Den Bosch. Iedereen is welkom! Of je nu al jaren hardloopt of een echte beginner bent. \nAfstand en tempo\nJe loopt op eigen tempo een afstand naar keuze. Een\, twee\, drie of vier rondjes\, dat bepaal je helemaal zelf. Een rondje is ongeveer 1\,8 km. Na afloop komen we weer samen voor koffie en iets lekkers bij het gezellige theehuis in het park. \nOok een keer meelopen?\nGezellig! Kijk op deze site voor de contactmogelijkheden.
URL:https://cocnoordoostbrabant.nl/event/hardlopen-met-zlg/2026-04-25/
LOCATION:IJzerenvrouw\, 's-Hertogenbosch
CATEGORIES:Sport
ATTACH;FMTTYPE=image/jpeg:https://cocnoordoostbrabant.nl/wordpress/wp-content/uploads/2025/02/IMG_8465-1.jpeg
ORGANIZER;CN="Regenboogsportclub Zoete Lieve Gerritje":MAILTO:info@zlgdenbosch.nl
END:VEVENT
BEGIN:VEVENT
DTSTART;TZID=Europe/Amsterdam:20260426T090000
DTEND;TZID=Europe/Amsterdam:20260426T100000
DTSTAMP:20260423T161320
CREATED:20250712T121825Z
LAST-MODIFIED:20251229T192111Z
UID:10002517-1777194000-1777197600@cocnoordoostbrabant.nl
SUMMARY:Pride Swim Boxtel
DESCRIPTION:In Boxtel is er iedere zondagochtend in het Optisport Het Dommelbad van 9.00u. – 10.00u. Pride Swim Boxtel.\nGezellig zwemmen op een voor iedereen openbare zwemtijd. 🏊🏼‍♀️🏊🏽🏊🏻‍♂️💦🏳️‍🌈🏳️‍⚧️\nKosten zijn €5\,15.\nHeb je interesse om een keer mee te zwemmen of wil je meer informatie? Laat het even weten via een berichtje via onze Instagram\, Facebook of via prideswimboxtel@gmail.com 😃
URL:https://cocnoordoostbrabant.nl/event/pride-swim-boxtel-3-2-2-2/2026-04-26/
LOCATION:Optisport Het Dommelbad\, Schijndelseweg 1A\, Boxtel\, 5283 AB
CATEGORIES:Boxtel,Sport
ATTACH;FMTTYPE=image/jpeg:https://cocnoordoostbrabant.nl/wordpress/wp-content/uploads/2023/03/F1E4F351-B211-4B7B-8F70-3C7C73EA6178.jpeg
ORGANIZER;CN="Pride Swim Boxtel":MAILTO:prideswimboxtel@gmail.com
GEO:51.5930355;5.3331707
X-APPLE-STRUCTURED-LOCATION;VALUE=URI;X-ADDRESS=Optisport Het Dommelbad Schijndelseweg 1A Boxtel 5283 AB;X-APPLE-RADIUS=500;X-TITLE=Schijndelseweg 1A:geo:5.3331707,51.5930355
END:VEVENT
BEGIN:VEVENT
DTSTART;TZID=Europe/Amsterdam:20260426T150000
DTEND;TZID=Europe/Amsterdam:20260426T190000
DTSTAMP:20260423T161320
CREATED:20221204T205519Z
LAST-MODIFIED:20251229T193037Z
UID:10002492-1777215600-1777230000@cocnoordoostbrabant.nl
SUMMARY:De Zondagmiddag Borrel
DESCRIPTION:Iedere vierde zondagmiddag\, bijeenkomst voor LHBTI’ers. Check ook de Zondagmiddagsalon-Facebook-pagina.
URL:https://cocnoordoostbrabant.nl/event/de-zondagmiddag-borrel-4/2026-04-26/
LOCATION:De Knillispoort\, Korte Waterstraat 15\, 's-Hertogenbosch
CATEGORIES:'s-Hertogenbosch,Café & Borrel,Sociaal
ATTACH;FMTTYPE=image/png:https://cocnoordoostbrabant.nl/wordpress/wp-content/uploads/2022/12/ZMB-logo.png
ORGANIZER;CN="COC Noordoost-Brabant":MAILTO:info@cocnoordoostbrabant.nl
GEO:51.6894883;5.3054119
X-APPLE-STRUCTURED-LOCATION;VALUE=URI;X-ADDRESS=De Knillispoort Korte Waterstraat 15 's-Hertogenbosch;X-APPLE-RADIUS=500;X-TITLE=Korte Waterstraat 15:geo:5.3054119,51.6894883
END:VEVENT
BEGIN:VEVENT
DTSTART;TZID=Europe/Amsterdam:20260428T080000
DTEND;TZID=Europe/Amsterdam:20260428T170000
DTSTAMP:20260423T161320
CREATED:20260402T123158Z
LAST-MODIFIED:20260402T123158Z
UID:10002651-1777363200-1777395600@cocnoordoostbrabant.nl
SUMMARY:Lotgenotengroep nabestaanden LHBTI
DESCRIPTION:Een lotgenotengroep voor mensen uit de regenboog-community die een partner van hetzelfe geslachthebben verloren aan kanker. \nIn een veilige omgeving kun je onderwerpen bespreken en ervaringen uitwisselen\, bijvoorbeeld op het gebied van verlies en rouw\, maar ook rondom praktische zaken. En over wie je bent zonder de ander en hoe je je leven vormgeeft. \nDe groep wordt begeleid door twee getrainde vrijwilligers Het programma bepaalt de groep zelf. Voel je een keer minder behoefte aan contact\, is dat geen enkel probleem. \nAanmelden voor een lotgenotengroep gaat als volgt: meld je aan via de website. De begeleiders nemen contact met je op. Samen bespreek je jouw behoefte. EEn beslissen jullie of je kunt instromen in de huidige groep of dat we samen een andere oplossing zoeken.
URL:https://cocnoordoostbrabant.nl/event/lotgenotengroep-nabestaanden-lhbti/2026-04-28/1/
LOCATION:IPSO Centrum Vicki Brownhuis\, Aartshertogenlaan 469\, ’s-Hertogenbosch\, Nederland
ATTACH;FMTTYPE=image/png:https://cocnoordoostbrabant.nl/wordpress/wp-content/uploads/2026/04/Logo-Vicki-Brownhuis-2-1.png
ORGANIZER;CN="Vicki Brownhuis":MAILTO:info@vickibrownhuis.nl
END:VEVENT
BEGIN:VEVENT
DTSTART;TZID=Europe/Amsterdam:20260428T193000
DTEND;TZID=Europe/Amsterdam:20260428T210000
DTSTAMP:20260423T161320
CREATED:20260402T123158Z
LAST-MODIFIED:20260402T123158Z
UID:10002652-1777404600-1777410000@cocnoordoostbrabant.nl
SUMMARY:Lotgenotengroep nabestaanden LHBTI
DESCRIPTION:Een lotgenotengroep voor mensen uit de regenboog-community die een partner van hetzelfe geslachthebben verloren aan kanker. \nIn een veilige omgeving kun je onderwerpen bespreken en ervaringen uitwisselen\, bijvoorbeeld op het gebied van verlies en rouw\, maar ook rondom praktische zaken. En over wie je bent zonder de ander en hoe je je leven vormgeeft. \nDe groep wordt begeleid door twee getrainde vrijwilligers Het programma bepaalt de groep zelf. Voel je een keer minder behoefte aan contact\, is dat geen enkel probleem. \nAanmelden voor een lotgenotengroep gaat als volgt: meld je aan via de website. De begeleiders nemen contact met je op. Samen bespreek je jouw behoefte. EEn beslissen jullie of je kunt instromen in de huidige groep of dat we samen een andere oplossing zoeken.
URL:https://cocnoordoostbrabant.nl/event/lotgenotengroep-nabestaanden-lhbti/2026-04-28/2/
LOCATION:IPSO Centrum Vicki Brownhuis\, Aartshertogenlaan 469\, ’s-Hertogenbosch\, Nederland
ATTACH;FMTTYPE=image/png:https://cocnoordoostbrabant.nl/wordpress/wp-content/uploads/2026/04/Logo-Vicki-Brownhuis-2-1.png
ORGANIZER;CN="Vicki Brownhuis":MAILTO:info@vickibrownhuis.nl
END:VEVENT
BEGIN:VEVENT
DTSTART;TZID=Europe/Amsterdam:20260429T190000
DTEND;TZID=Europe/Amsterdam:20260429T220000
DTSTAMP:20260423T161320
CREATED:20260417T100358Z
LAST-MODIFIED:20260417T100358Z
UID:10002663-1777489200-1777500000@cocnoordoostbrabant.nl
SUMMARY:Roze Karaoke
DESCRIPTION:In Cafe t Zonneke in Hintham is een gezellige Roze Karaoke avond \nWoensdag 29 april \nDeuren open om 19u\nWe beginnen vanaf 19.30u tot 22u \nKom gezellig meezingen!
URL:https://cocnoordoostbrabant.nl/event/roze-karaoke/
LOCATION:‘s-Hertogenbosch\, 's-Hertogenbosch
ATTACH;FMTTYPE=image/jpeg:https://cocnoordoostbrabant.nl/wordpress/wp-content/uploads/2026/04/1000084985-1.jpg
END:VEVENT
BEGIN:VEVENT
DTSTART;TZID=Europe/Amsterdam:20260429T190000
DTEND;TZID=Europe/Amsterdam:20260429T223000
DTSTAMP:20260423T161320
CREATED:20250204T220228Z
LAST-MODIFIED:20250612T152513Z
UID:10001578-1777489200-1777501800@cocnoordoostbrabant.nl
SUMMARY:Regenboog Borrel
DESCRIPTION:Elke laatste woensdag van de maand vanaf 19.00 gezellig samenzijn bij ‘t Zonneke \, Hintham 36 in Rosmalen \nHoe diverser hoe leuker.
URL:https://cocnoordoostbrabant.nl/event/regenboog-borrel-2-2/2026-04-29/
LOCATION:Café ‘t Zonneke\, Hintham 36\, Rosmalen\, 5246 AG\, Nederland
CATEGORIES:'s-Hertogenbosch,Café & Borrel
ATTACH;FMTTYPE=image/jpeg:https://cocnoordoostbrabant.nl/wordpress/wp-content/uploads/2023/11/t-Zonneke.jpg
ORGANIZER;CN="Caf%C3%A9 't Zonneke":MAILTO:peter@cafetzonneke.nl
GEO:51.7007194;5.3375665
X-APPLE-STRUCTURED-LOCATION;VALUE=URI;X-ADDRESS=Café ‘t Zonneke Hintham 36 Rosmalen 5246 AG Nederland;X-APPLE-RADIUS=500;X-TITLE=Hintham 36:geo:5.3375665,51.7007194
END:VEVENT
BEGIN:VEVENT
DTSTART;TZID=Europe/Amsterdam:20260430T193000
DTEND;TZID=Europe/Amsterdam:20260430T220000
DTSTAMP:20260423T161320
CREATED:20230418T160058Z
LAST-MODIFIED:20251229T190608Z
UID:10002447-1777577400-1777586400@cocnoordoostbrabant.nl
SUMMARY:Inloopavond
DESCRIPTION:Iedere de twee weken is er een inloopavond in het Ketelhuis op de Tramkade in Den Bosch. \nBij de inloop avond staat onze deur open voor iedereen. Wij bieden een veilige plek om gelijkgestemden te ontmoeten en voor al je vragen op het gebied van genderidentiteit en geaardheid. \nDus wil je hier meer over weten? Of ben je op zoek naar anderen die weten hoe het is om LHBTI+ te zijn? Ben je benieuwd naar onze andere activiteiten of groepen\, maar twijfel je om deel te nemen? Weet je niet zeker wat bij jou past? Dan kunnen wij je ook op de inloopavond hier meer over vertellen en mogelijk verder helpen. \nUiteraard ben je ook welkom om puur voor de gezelligheid binnen te lopen. Dus kom vooral langs! Het drinken staat al koud.
URL:https://cocnoordoostbrabant.nl/event/inloopavond-6-2-3/2026-04-30/
LOCATION:COC – Ketelhuis\, Tramkade 26\, 's-Hertogenbosch\, Noord-Brabant\, 5211 VD
CATEGORIES:'s-Hertogenbosch,Inloop,Sociaal,Voorlichting
ATTACH;FMTTYPE=image/png:https://cocnoordoostbrabant.nl/wordpress/wp-content/uploads/2023/04/Inloop.png
ORGANIZER;CN="COC Noordoost-Brabant":MAILTO:info@cocnoordoostbrabant.nl
GEO:51.6956356;5.2985281
X-APPLE-STRUCTURED-LOCATION;VALUE=URI;X-ADDRESS=COC – Ketelhuis Tramkade 26 's-Hertogenbosch Noord-Brabant 5211 VD;X-APPLE-RADIUS=500;X-TITLE=Tramkade 26:geo:5.2985281,51.6956356
END:VEVENT
BEGIN:VEVENT
DTSTART;TZID=Europe/Amsterdam:20260430T200000
DTEND;TZID=Europe/Amsterdam:20260430T213000
DTSTAMP:20260423T161320
CREATED:20241106T210453Z
LAST-MODIFIED:20241213T145101Z
UID:10001113-1777579200-1777584600@cocnoordoostbrabant.nl
SUMMARY:Volleybal
DESCRIPTION:Elke donderdag avond volleyballen. Voor iedereen\, zowel beginners als gevorderde .
URL:https://cocnoordoostbrabant.nl/event/volleybal/2026-04-30/
LOCATION:‘s-Hertogenbosch\, 's-Hertogenbosch
CATEGORIES:Sport
ATTACH;FMTTYPE=image/jpeg:https://cocnoordoostbrabant.nl/wordpress/wp-content/uploads/2024/11/IMG_8465.jpeg
ORGANIZER;CN="Regenboogsportclub Zoete Lieve Gerritje":MAILTO:info@zlgdenbosch.nl
END:VEVENT
END:VCALENDAR