BEGIN:VCALENDAR
VERSION:2.0
PRODID:-//COC Noordoost-Brabant - ECPv6.15.18//NONSGML v1.0//EN
CALSCALE:GREGORIAN
METHOD:PUBLISH
X-WR-CALNAME:COC Noordoost-Brabant
X-ORIGINAL-URL:https://cocnoordoostbrabant.nl
X-WR-CALDESC:Evenementen voor COC Noordoost-Brabant
REFRESH-INTERVAL;VALUE=DURATION:PT1H
X-Robots-Tag:noindex
X-PUBLISHED-TTL:PT1H
BEGIN:VTIMEZONE
TZID:Europe/Amsterdam
BEGIN:DAYLIGHT
TZOFFSETFROM:+0100
TZOFFSETTO:+0200
TZNAME:CEST
DTSTART:20250330T010000
END:DAYLIGHT
BEGIN:STANDARD
TZOFFSETFROM:+0200
TZOFFSETTO:+0100
TZNAME:CET
DTSTART:20251026T010000
END:STANDARD
BEGIN:DAYLIGHT
TZOFFSETFROM:+0100
TZOFFSETTO:+0200
TZNAME:CEST
DTSTART:20260329T010000
END:DAYLIGHT
BEGIN:STANDARD
TZOFFSETFROM:+0200
TZOFFSETTO:+0100
TZNAME:CET
DTSTART:20261025T010000
END:STANDARD
BEGIN:DAYLIGHT
TZOFFSETFROM:+0100
TZOFFSETTO:+0200
TZNAME:CEST
DTSTART:20270328T010000
END:DAYLIGHT
BEGIN:STANDARD
TZOFFSETFROM:+0200
TZOFFSETTO:+0100
TZNAME:CET
DTSTART:20271031T010000
END:STANDARD
END:VTIMEZONE
BEGIN:VEVENT
DTSTART;TZID=Europe/Amsterdam:20260507T200000
DTEND;TZID=Europe/Amsterdam:20260507T220000
DTSTAMP:20260423T101322
CREATED:20260331T172758Z
LAST-MODIFIED:20260331T173111Z
UID:10002648-1778184000-1778191200@cocnoordoostbrabant.nl
SUMMARY:DRAG ADVENTURE
DESCRIPTION:We nemen je mee op DRAG ADVENTURE! Een avontuur waarbij je je eigen vorm van drag kan ontwikkelen. Je kan langskomen bij een van de workshops die je interessant lijkt\, of gewoon allemaal! Met een feestelijke afsluiting tijdens de Open Stage op vrijdag 29 mei 🤩 \nHet programma:\n⛺ Donderdag 2 april: WELCOME TO THE WORLD OF DRAG met quiz en DIY workshop door Von Prinzenwald\n💅🏽 Donderdag 16 april: CAMP: ALL ABOUT THE LOOKS met live make-up sessie door Jessie Loray\n🥾Donderdag 7 mei: CAMP: PERFORMANCE met workshop door Lorena Valenzuela\n🎸Donderdag 21 mei: EXTRA REPETITIE (in JCNoord)\n🔥 Vrijdag 29 mei: OPEN STAGE & PARTY! \nTijdens de workshops op donderdag is het café bij het World Skate Center exclusief toegankelijk voor het DRAG ADVENTURE! Want dit avontuur gaan we samen aan! Dus neem je beste vrienden of Family mee. 🥰 \nDit DRAG ADVENTURE is voor iedereen die graag met drag bezig wil zijn. Het maakt niet uit hoe oud je bent of hoeveel ervaring je hebt. Neem je enthousiasme en wildste drag fantasy mee in je knapzak! \nHelemaal gratis!\nAanmelden is fijn ❤️ \nDit evenement wordt georganiseerd door Drag Up Family en Jongerenwerk073.\nMet dank aan Tramkade Alliantie en gemeente ‘s-Hertogenbosch.
URL:https://cocnoordoostbrabant.nl/event/drag-adventure/2026-05-07/
LOCATION:World Skate Center Den Bosch
CATEGORIES:Drag
ATTACH;FMTTYPE=image/jpeg:https://cocnoordoostbrabant.nl/wordpress/wp-content/uploads/2026/03/drag-adventure-drag-up-family-3-scaled.jpg
ORGANIZER;CN="Drag Up Family":MAILTO:maybe@academievoorbeeldvorming.nl
END:VEVENT
BEGIN:VEVENT
DTSTART;TZID=Europe/Amsterdam:20260509T193000
DTEND;TZID=Europe/Amsterdam:20260509T223000
DTSTAMP:20260423T101322
CREATED:20260226T151526Z
LAST-MODIFIED:20260228T221120Z
UID:10002587-1778355000-1778365800@cocnoordoostbrabant.nl
SUMMARY:Wrivinge - educatieve cabaret & dragshow
DESCRIPTION:Ben je klaar voor een erotische reis door de tijd?  \nWRIVINGE is een educatieve cabaretshow over de geschiedenis van erotiek\, relaties en kink. \nAan de hand van stukjes college\, cabaret\, historische seksverhalen en drag reizen we van het oude Griekenland naar de alles-behalve-kuise jonkvrouwen van de Middeleeuwen naar de kinky Victorianen en ontdekken hoe geestig\, scherp en vrijdenkend onze voorouders vaak waren. \nWRIVINGE is een show voor iedereen die houdt van geschiedenis\, spicy verhalen en humoristische reflectie op hoe we vandaag de dag naar erotiek en anders-zijn kijken (18+). \nMeer informatie: linktr.ee/wrivinge of @wrivinge op Insta
URL:https://cocnoordoostbrabant.nl/event/wrivinge-educatieve-cabaret-dragshow/
LOCATION:Theater Artemis\, Predikheerenpoort 50\, 's-Hertogenbosch\, 5211 NK\, Nederland
CATEGORIES:Drag,Theater
ATTACH;FMTTYPE=image/jpeg:https://cocnoordoostbrabant.nl/wordpress/wp-content/uploads/2026/02/promowrivingevierkant.jpg
ORGANIZER;CN="Wrivinge":MAILTO:wrivinge@gmail.com
END:VEVENT
BEGIN:VEVENT
DTSTART;TZID=Europe/Amsterdam:20260521T080000
DTEND;TZID=Europe/Amsterdam:20260521T170000
DTSTAMP:20260423T101322
CREATED:20260331T172758Z
LAST-MODIFIED:20260331T173111Z
UID:10002649-1779350400-1779382800@cocnoordoostbrabant.nl
SUMMARY:DRAG ADVENTURE
DESCRIPTION:We nemen je mee op DRAG ADVENTURE! Een avontuur waarbij je je eigen vorm van drag kan ontwikkelen. Je kan langskomen bij een van de workshops die je interessant lijkt\, of gewoon allemaal! Met een feestelijke afsluiting tijdens de Open Stage op vrijdag 29 mei 🤩 \nHet programma:\n⛺ Donderdag 2 april: WELCOME TO THE WORLD OF DRAG met quiz en DIY workshop door Von Prinzenwald\n💅🏽 Donderdag 16 april: CAMP: ALL ABOUT THE LOOKS met live make-up sessie door Jessie Loray\n🥾Donderdag 7 mei: CAMP: PERFORMANCE met workshop door Lorena Valenzuela\n🎸Donderdag 21 mei: EXTRA REPETITIE (in JCNoord)\n🔥 Vrijdag 29 mei: OPEN STAGE & PARTY! \nTijdens de workshops op donderdag is het café bij het World Skate Center exclusief toegankelijk voor het DRAG ADVENTURE! Want dit avontuur gaan we samen aan! Dus neem je beste vrienden of Family mee. 🥰 \nDit DRAG ADVENTURE is voor iedereen die graag met drag bezig wil zijn. Het maakt niet uit hoe oud je bent of hoeveel ervaring je hebt. Neem je enthousiasme en wildste drag fantasy mee in je knapzak! \nHelemaal gratis!\nAanmelden is fijn ❤️ \nDit evenement wordt georganiseerd door Drag Up Family en Jongerenwerk073.\nMet dank aan Tramkade Alliantie en gemeente ‘s-Hertogenbosch.
URL:https://cocnoordoostbrabant.nl/event/drag-adventure/2026-05-21/
LOCATION:World Skate Center Den Bosch
CATEGORIES:Drag
ATTACH;FMTTYPE=image/jpeg:https://cocnoordoostbrabant.nl/wordpress/wp-content/uploads/2026/03/drag-adventure-drag-up-family-3-scaled.jpg
ORGANIZER;CN="Drag Up Family":MAILTO:maybe@academievoorbeeldvorming.nl
END:VEVENT
BEGIN:VEVENT
DTSTART;TZID=Europe/Amsterdam:20260529T080000
DTEND;TZID=Europe/Amsterdam:20260529T170000
DTSTAMP:20260423T101322
CREATED:20260331T172758Z
LAST-MODIFIED:20260331T173111Z
UID:10002650-1780041600-1780074000@cocnoordoostbrabant.nl
SUMMARY:DRAG ADVENTURE
DESCRIPTION:We nemen je mee op DRAG ADVENTURE! Een avontuur waarbij je je eigen vorm van drag kan ontwikkelen. Je kan langskomen bij een van de workshops die je interessant lijkt\, of gewoon allemaal! Met een feestelijke afsluiting tijdens de Open Stage op vrijdag 29 mei 🤩 \nHet programma:\n⛺ Donderdag 2 april: WELCOME TO THE WORLD OF DRAG met quiz en DIY workshop door Von Prinzenwald\n💅🏽 Donderdag 16 april: CAMP: ALL ABOUT THE LOOKS met live make-up sessie door Jessie Loray\n🥾Donderdag 7 mei: CAMP: PERFORMANCE met workshop door Lorena Valenzuela\n🎸Donderdag 21 mei: EXTRA REPETITIE (in JCNoord)\n🔥 Vrijdag 29 mei: OPEN STAGE & PARTY! \nTijdens de workshops op donderdag is het café bij het World Skate Center exclusief toegankelijk voor het DRAG ADVENTURE! Want dit avontuur gaan we samen aan! Dus neem je beste vrienden of Family mee. 🥰 \nDit DRAG ADVENTURE is voor iedereen die graag met drag bezig wil zijn. Het maakt niet uit hoe oud je bent of hoeveel ervaring je hebt. Neem je enthousiasme en wildste drag fantasy mee in je knapzak! \nHelemaal gratis!\nAanmelden is fijn ❤️ \nDit evenement wordt georganiseerd door Drag Up Family en Jongerenwerk073.\nMet dank aan Tramkade Alliantie en gemeente ‘s-Hertogenbosch.
URL:https://cocnoordoostbrabant.nl/event/drag-adventure/2026-05-29/
LOCATION:World Skate Center Den Bosch
CATEGORIES:Drag
ATTACH;FMTTYPE=image/jpeg:https://cocnoordoostbrabant.nl/wordpress/wp-content/uploads/2026/03/drag-adventure-drag-up-family-3-scaled.jpg
ORGANIZER;CN="Drag Up Family":MAILTO:maybe@academievoorbeeldvorming.nl
END:VEVENT
END:VCALENDAR