BEGIN:VCALENDAR
VERSION:2.0
PRODID:-//COC Noordoost-Brabant - ECPv6.15.18//NONSGML v1.0//EN
CALSCALE:GREGORIAN
METHOD:PUBLISH
X-ORIGINAL-URL:https://cocnoordoostbrabant.nl
X-WR-CALDESC:Evenementen voor COC Noordoost-Brabant
REFRESH-INTERVAL;VALUE=DURATION:PT1H
X-Robots-Tag:noindex
X-PUBLISHED-TTL:PT1H
BEGIN:VTIMEZONE
TZID:Europe/Amsterdam
BEGIN:DAYLIGHT
TZOFFSETFROM:+0100
TZOFFSETTO:+0200
TZNAME:CEST
DTSTART:20250330T010000
END:DAYLIGHT
BEGIN:STANDARD
TZOFFSETFROM:+0200
TZOFFSETTO:+0100
TZNAME:CET
DTSTART:20251026T010000
END:STANDARD
BEGIN:DAYLIGHT
TZOFFSETFROM:+0100
TZOFFSETTO:+0200
TZNAME:CEST
DTSTART:20260329T010000
END:DAYLIGHT
BEGIN:STANDARD
TZOFFSETFROM:+0200
TZOFFSETTO:+0100
TZNAME:CET
DTSTART:20261025T010000
END:STANDARD
BEGIN:DAYLIGHT
TZOFFSETFROM:+0100
TZOFFSETTO:+0200
TZNAME:CEST
DTSTART:20270328T010000
END:DAYLIGHT
BEGIN:STANDARD
TZOFFSETFROM:+0200
TZOFFSETTO:+0100
TZNAME:CET
DTSTART:20271031T010000
END:STANDARD
END:VTIMEZONE
BEGIN:VEVENT
DTSTART;TZID=Europe/Amsterdam:20260411T220000
DTEND;TZID=Europe/Amsterdam:20260412T020000
DTSTAMP:20260423T113243
CREATED:20260311T214053Z
LAST-MODIFIED:20260311T214053Z
UID:10002639-1775944800-1775959200@cocnoordoostbrabant.nl
SUMMARY:Klub Kweer
DESCRIPTION:WELKOM BIJ KLUB KWEER \nEen nieuwe avond. Een nieuwe energie.  Een plek waar je binnenstapt zoals je bent.\nDans\, ontmoet & vier.
URL:https://cocnoordoostbrabant.nl/event/klub-kweer/
LOCATION:Cafe Keulse Kar\, Hinthamerstraat 101\, 's-Hertogenbosch\, 5211 MH
CATEGORIES:'s-Hertogenbosch,Drag,Feest
ATTACH;FMTTYPE=image/png:https://cocnoordoostbrabant.nl/wordpress/wp-content/uploads/2026/03/Klub-Kweer.png
ORGANIZER;CN="Klub Kweer":MAILTO:info@taatproductions.com
END:VEVENT
BEGIN:VEVENT
DTSTART;TZID=Europe/Amsterdam:20260405T230000
DTEND;TZID=Europe/Amsterdam:20260406T030000
DTSTAMP:20260423T113243
CREATED:20260306T101738Z
LAST-MODIFIED:20260306T101738Z
UID:10002638-1775430000-1775444400@cocnoordoostbrabant.nl
SUMMARY:IN EXTASE – Gay dansfeest voor mannen 30+
DESCRIPTION:Zin in een avond dansen met goede muziek en een relaxte sfeer? IN EXTASE is hét dansfeest voor mannen van 30+ (en iedereen die zich als man identificeert)\, met herkenbare pop\, disco en dance — van actuele hits tot iconische classics vanaf de jaren ’90.
URL:https://cocnoordoostbrabant.nl/event/in-extase-gay-dansfeest-voor-mannen-30/
LOCATION:De Witte Raaf (Nijmegen)\, Grotestraat 11\, Nijmegen\, 6511 VB
CATEGORIES:Feest
ATTACH;FMTTYPE=image/jpeg:https://cocnoordoostbrabant.nl/wordpress/wp-content/uploads/2026/03/PR-InExtase-5april2026.jpg
END:VEVENT
END:VCALENDAR