BEGIN:VCALENDAR
VERSION:2.0
PRODID:-//COC Noordoost-Brabant - ECPv6.15.18//NONSGML v1.0//EN
CALSCALE:GREGORIAN
METHOD:PUBLISH
X-WR-CALNAME:COC Noordoost-Brabant
X-ORIGINAL-URL:https://cocnoordoostbrabant.nl
X-WR-CALDESC:Evenementen voor COC Noordoost-Brabant
REFRESH-INTERVAL;VALUE=DURATION:PT1H
X-Robots-Tag:noindex
X-PUBLISHED-TTL:PT1H
BEGIN:VTIMEZONE
TZID:Europe/Amsterdam
BEGIN:DAYLIGHT
TZOFFSETFROM:+0100
TZOFFSETTO:+0200
TZNAME:CEST
DTSTART:20250330T010000
END:DAYLIGHT
BEGIN:STANDARD
TZOFFSETFROM:+0200
TZOFFSETTO:+0100
TZNAME:CET
DTSTART:20251026T010000
END:STANDARD
BEGIN:DAYLIGHT
TZOFFSETFROM:+0100
TZOFFSETTO:+0200
TZNAME:CEST
DTSTART:20260329T010000
END:DAYLIGHT
BEGIN:STANDARD
TZOFFSETFROM:+0200
TZOFFSETTO:+0100
TZNAME:CET
DTSTART:20261025T010000
END:STANDARD
BEGIN:DAYLIGHT
TZOFFSETFROM:+0100
TZOFFSETTO:+0200
TZNAME:CEST
DTSTART:20270328T010000
END:DAYLIGHT
BEGIN:STANDARD
TZOFFSETFROM:+0200
TZOFFSETTO:+0100
TZNAME:CET
DTSTART:20271031T010000
END:STANDARD
END:VTIMEZONE
BEGIN:VEVENT
DTSTART;TZID=Europe/Amsterdam:20260325T193000
DTEND;TZID=Europe/Amsterdam:20260325T213000
DTSTAMP:20260423T175937
CREATED:20260301T204036Z
LAST-MODIFIED:20260301T211148Z
UID:10002635-1774467000-1774474200@cocnoordoostbrabant.nl
SUMMARY:Algemene Leden Vergadering (ALV)
DESCRIPTION:Op woensdag 25 maart vindt de Algemene Ledenvergadering van COC Noordoost Brabant plaats. \nHet belangrijkste agendapunt is een voorstel tot statutenwijziging in verband met de Wet Bestuur en Toezicht Rechtspersonen (WBTR). Alle COC-regio’s actualiseren hun statuten; ook onze leden beslissen hierover. \nDaarnaast bespreken we de jaarcijfers\, blikken we terug op het jubileumjaar en kijken we vooruit. Het jaarverslag is in voorbereiding – we hopen een eerste versie te kunnen delen. \nWe zien je graag op 25 maart. \nAanmelden kan via formulier hier onder: \nSorry. Dit formulier is niet langer beschikbaar.
URL:https://cocnoordoostbrabant.nl/event/alv/
LOCATION:COC – Ketelhuis\, Tramkade 26\, 's-Hertogenbosch\, Noord-Brabant\, 5211 VD
CATEGORIES:Voor Leden
ATTACH;FMTTYPE=image/png:https://cocnoordoostbrabant.nl/wordpress/wp-content/uploads/2025/01/Screenshot-2025-01-02-at-21.43.49.png
ORGANIZER;CN="COC Noordoost-Brabant":MAILTO:info@cocnoordoostbrabant.nl
GEO:51.6956356;5.2985281
X-APPLE-STRUCTURED-LOCATION;VALUE=URI;X-ADDRESS=COC – Ketelhuis Tramkade 26 's-Hertogenbosch Noord-Brabant 5211 VD;X-APPLE-RADIUS=500;X-TITLE=Tramkade 26:geo:5.2985281,51.6956356
END:VEVENT
END:VCALENDAR