BEGIN:VCALENDAR
VERSION:2.0
PRODID:-//COC Noordoost-Brabant - ECPv6.15.18//NONSGML v1.0//EN
CALSCALE:GREGORIAN
METHOD:PUBLISH
X-WR-CALNAME:COC Noordoost-Brabant
X-ORIGINAL-URL:https://cocnoordoostbrabant.nl
X-WR-CALDESC:Evenementen voor COC Noordoost-Brabant
REFRESH-INTERVAL;VALUE=DURATION:PT1H
X-Robots-Tag:noindex
X-PUBLISHED-TTL:PT1H
BEGIN:VTIMEZONE
TZID:Europe/Amsterdam
BEGIN:DAYLIGHT
TZOFFSETFROM:+0100
TZOFFSETTO:+0200
TZNAME:CEST
DTSTART:20250330T010000
END:DAYLIGHT
BEGIN:STANDARD
TZOFFSETFROM:+0200
TZOFFSETTO:+0100
TZNAME:CET
DTSTART:20251026T010000
END:STANDARD
BEGIN:DAYLIGHT
TZOFFSETFROM:+0100
TZOFFSETTO:+0200
TZNAME:CEST
DTSTART:20260329T010000
END:DAYLIGHT
BEGIN:STANDARD
TZOFFSETFROM:+0200
TZOFFSETTO:+0100
TZNAME:CET
DTSTART:20261025T010000
END:STANDARD
BEGIN:DAYLIGHT
TZOFFSETFROM:+0100
TZOFFSETTO:+0200
TZNAME:CEST
DTSTART:20270328T010000
END:DAYLIGHT
BEGIN:STANDARD
TZOFFSETFROM:+0200
TZOFFSETTO:+0100
TZNAME:CET
DTSTART:20271031T010000
END:STANDARD
END:VTIMEZONE
BEGIN:VEVENT
DTSTART;TZID=Europe/Amsterdam:20260329T090000
DTEND;TZID=Europe/Amsterdam:20260329T100000
DTSTAMP:20260423T161854
CREATED:20250712T121825Z
LAST-MODIFIED:20251229T192111Z
UID:10002513-1774774800-1774778400@cocnoordoostbrabant.nl
SUMMARY:Pride Swim Boxtel
DESCRIPTION:In Boxtel is er iedere zondagochtend in het Optisport Het Dommelbad van 9.00u. – 10.00u. Pride Swim Boxtel.\nGezellig zwemmen op een voor iedereen openbare zwemtijd. 🏊🏼‍♀️🏊🏽🏊🏻‍♂️💦🏳️‍🌈🏳️‍⚧️\nKosten zijn €5\,15.\nHeb je interesse om een keer mee te zwemmen of wil je meer informatie? Laat het even weten via een berichtje via onze Instagram\, Facebook of via prideswimboxtel@gmail.com 😃
URL:https://cocnoordoostbrabant.nl/event/pride-swim-boxtel-3-2-2-2/2026-03-29/
LOCATION:Optisport Het Dommelbad\, Schijndelseweg 1A\, Boxtel\, 5283 AB
CATEGORIES:Boxtel,Sport
ATTACH;FMTTYPE=image/jpeg:https://cocnoordoostbrabant.nl/wordpress/wp-content/uploads/2023/03/F1E4F351-B211-4B7B-8F70-3C7C73EA6178.jpeg
ORGANIZER;CN="Pride Swim Boxtel":MAILTO:prideswimboxtel@gmail.com
GEO:51.5930355;5.3331707
X-APPLE-STRUCTURED-LOCATION;VALUE=URI;X-ADDRESS=Optisport Het Dommelbad Schijndelseweg 1A Boxtel 5283 AB;X-APPLE-RADIUS=500;X-TITLE=Schijndelseweg 1A:geo:5.3331707,51.5930355
END:VEVENT
BEGIN:VEVENT
DTSTART;TZID=Europe/Amsterdam:20260328T093000
DTEND;TZID=Europe/Amsterdam:20260328T103000
DTSTAMP:20260423T161854
CREATED:20250216T121535Z
LAST-MODIFIED:20250216T121535Z
UID:10001844-1774690200-1774693800@cocnoordoostbrabant.nl
SUMMARY:Hardlopen met ZLG
DESCRIPTION:Elke zaterdagochtend om 9.30 uur loopt onze hardloopgroep het mooie rondje om de IJzeren Vrouw in het Prins Hendrikpark in Den Bosch. Iedereen is welkom! Of je nu al jaren hardloopt of een echte beginner bent. \nAfstand en tempo\nJe loopt op eigen tempo een afstand naar keuze. Een\, twee\, drie of vier rondjes\, dat bepaal je helemaal zelf. Een rondje is ongeveer 1\,8 km. Na afloop komen we weer samen voor koffie en iets lekkers bij het gezellige theehuis in het park. \nOok een keer meelopen?\nGezellig! Kijk op deze site voor de contactmogelijkheden.
URL:https://cocnoordoostbrabant.nl/event/hardlopen-met-zlg/2026-03-28/
LOCATION:IJzerenvrouw\, 's-Hertogenbosch
CATEGORIES:Sport
ATTACH;FMTTYPE=image/jpeg:https://cocnoordoostbrabant.nl/wordpress/wp-content/uploads/2025/02/IMG_8465-1.jpeg
ORGANIZER;CN="Regenboogsportclub Zoete Lieve Gerritje":MAILTO:info@zlgdenbosch.nl
END:VEVENT
BEGIN:VEVENT
DTSTART;TZID=Europe/Amsterdam:20260327T200000
DTEND;TZID=Europe/Amsterdam:20260327T230000
DTSTAMP:20260423T161854
CREATED:20251213T152032Z
LAST-MODIFIED:20251213T152032Z
UID:10002429-1774641600-1774652400@cocnoordoostbrabant.nl
SUMMARY:Gender+
DESCRIPTION:Iedere maand is er een bijeenkomst van Gender+. Een avond voor iedereen die transgender\, non-binair of op een andere manier genderdivers is.\n\nBij Gender+:\n\nontmoet je mensen die net zo zijn als jij\nkun je terecht met vragen over jouw genderidentiteit of jouw transitie\nnodigen we vaak gastsprekers uit met interessante onderwerpen\nhouden we soms een kledingruil waar je kleding kan doneren\, en gedoneerde kleding gratis mag meenemen\ndoen we vaak leuke dingen zoals een barbecue\, spelletjes of thema avonden\n\nGender+ is de op laatste vrijdag van iedere maand van 20:00 tot 23:00 in het Ketelhuis op de Tramkade.\nBen je onder de 18? Neem dan eerst even contact met ons op via ons e-mailadres. \nGenderplus@cocnoordoostbrabant.nl\nKom je ook eens langs? \nHelaas is het ketelhuis niet toegankelijk voor rolstoelgebruikers.
URL:https://cocnoordoostbrabant.nl/event/gender/2026-03-27/
LOCATION:COC – Ketelhuis\, Tramkade 26\, 's-Hertogenbosch\, Noord-Brabant\, 5211 VD
CATEGORIES:'s-Hertogenbosch,Genderdivers,Sociaal
ATTACH;FMTTYPE=image/png:https://cocnoordoostbrabant.nl/wordpress/wp-content/uploads/2025/12/Logo-Gender-Den-Bosch.png
ORGANIZER;CN="COC Noordoost-Brabant":MAILTO:info@cocnoordoostbrabant.nl
GEO:51.6956356;5.2985281
X-APPLE-STRUCTURED-LOCATION;VALUE=URI;X-ADDRESS=COC – Ketelhuis Tramkade 26 's-Hertogenbosch Noord-Brabant 5211 VD;X-APPLE-RADIUS=500;X-TITLE=Tramkade 26:geo:5.2985281,51.6956356
END:VEVENT
BEGIN:VEVENT
DTSTART;TZID=Europe/Amsterdam:20260326T200000
DTEND;TZID=Europe/Amsterdam:20260326T213000
DTSTAMP:20260423T161854
CREATED:20241106T210453Z
LAST-MODIFIED:20241213T145101Z
UID:10001103-1774555200-1774560600@cocnoordoostbrabant.nl
SUMMARY:Volleybal
DESCRIPTION:Elke donderdag avond volleyballen. Voor iedereen\, zowel beginners als gevorderde .
URL:https://cocnoordoostbrabant.nl/event/volleybal/2026-03-26/
LOCATION:‘s-Hertogenbosch\, 's-Hertogenbosch
CATEGORIES:Sport
ATTACH;FMTTYPE=image/jpeg:https://cocnoordoostbrabant.nl/wordpress/wp-content/uploads/2024/11/IMG_8465.jpeg
ORGANIZER;CN="Regenboogsportclub Zoete Lieve Gerritje":MAILTO:info@zlgdenbosch.nl
END:VEVENT
BEGIN:VEVENT
DTSTART;TZID=Europe/Amsterdam:20260325T193000
DTEND;TZID=Europe/Amsterdam:20260325T213000
DTSTAMP:20260423T161854
CREATED:20260301T204036Z
LAST-MODIFIED:20260301T211148Z
UID:10002635-1774467000-1774474200@cocnoordoostbrabant.nl
SUMMARY:Algemene Leden Vergadering (ALV)
DESCRIPTION:Op woensdag 25 maart vindt de Algemene Ledenvergadering van COC Noordoost Brabant plaats. \nHet belangrijkste agendapunt is een voorstel tot statutenwijziging in verband met de Wet Bestuur en Toezicht Rechtspersonen (WBTR). Alle COC-regio’s actualiseren hun statuten; ook onze leden beslissen hierover. \nDaarnaast bespreken we de jaarcijfers\, blikken we terug op het jubileumjaar en kijken we vooruit. Het jaarverslag is in voorbereiding – we hopen een eerste versie te kunnen delen. \nWe zien je graag op 25 maart. \nAanmelden kan via formulier hier onder: \nSorry. Dit formulier is niet langer beschikbaar.
URL:https://cocnoordoostbrabant.nl/event/alv/
LOCATION:COC – Ketelhuis\, Tramkade 26\, 's-Hertogenbosch\, Noord-Brabant\, 5211 VD
CATEGORIES:Voor Leden
ATTACH;FMTTYPE=image/png:https://cocnoordoostbrabant.nl/wordpress/wp-content/uploads/2025/01/Screenshot-2025-01-02-at-21.43.49.png
ORGANIZER;CN="COC Noordoost-Brabant":MAILTO:info@cocnoordoostbrabant.nl
GEO:51.6956356;5.2985281
X-APPLE-STRUCTURED-LOCATION;VALUE=URI;X-ADDRESS=COC – Ketelhuis Tramkade 26 's-Hertogenbosch Noord-Brabant 5211 VD;X-APPLE-RADIUS=500;X-TITLE=Tramkade 26:geo:5.2985281,51.6956356
END:VEVENT
BEGIN:VEVENT
DTSTART;TZID=Europe/Amsterdam:20260325T190000
DTEND;TZID=Europe/Amsterdam:20260325T223000
DTSTAMP:20260423T161854
CREATED:20250204T220228Z
LAST-MODIFIED:20250612T152513Z
UID:10001577-1774465200-1774477800@cocnoordoostbrabant.nl
SUMMARY:Regenboog Borrel
DESCRIPTION:Elke laatste woensdag van de maand vanaf 19.00 gezellig samenzijn bij ‘t Zonneke \, Hintham 36 in Rosmalen \nHoe diverser hoe leuker.
URL:https://cocnoordoostbrabant.nl/event/regenboog-borrel-2-2/2026-03-25/
LOCATION:Café ‘t Zonneke\, Hintham 36\, Rosmalen\, 5246 AG\, Nederland
CATEGORIES:'s-Hertogenbosch,Café & Borrel
ATTACH;FMTTYPE=image/jpeg:https://cocnoordoostbrabant.nl/wordpress/wp-content/uploads/2023/11/t-Zonneke.jpg
ORGANIZER;CN="Caf%C3%A9 't Zonneke":MAILTO:peter@cafetzonneke.nl
GEO:51.7007194;5.3375665
X-APPLE-STRUCTURED-LOCATION;VALUE=URI;X-ADDRESS=Café ‘t Zonneke Hintham 36 Rosmalen 5246 AG Nederland;X-APPLE-RADIUS=500;X-TITLE=Hintham 36:geo:5.3375665,51.7007194
END:VEVENT
END:VCALENDAR