BEGIN:VCALENDAR
VERSION:2.0
PRODID:-//COC Noordoost-Brabant - ECPv6.15.20//NONSGML v1.0//EN
CALSCALE:GREGORIAN
METHOD:PUBLISH
X-ORIGINAL-URL:https://cocnoordoostbrabant.nl
X-WR-CALDESC:Evenementen voor COC Noordoost-Brabant
REFRESH-INTERVAL;VALUE=DURATION:PT1H
X-Robots-Tag:noindex
X-PUBLISHED-TTL:PT1H
BEGIN:VTIMEZONE
TZID:Europe/Amsterdam
BEGIN:DAYLIGHT
TZOFFSETFROM:+0100
TZOFFSETTO:+0200
TZNAME:CEST
DTSTART:20290325T010000
END:DAYLIGHT
BEGIN:STANDARD
TZOFFSETFROM:+0200
TZOFFSETTO:+0100
TZNAME:CET
DTSTART:20291028T010000
END:STANDARD
BEGIN:DAYLIGHT
TZOFFSETFROM:+0100
TZOFFSETTO:+0200
TZNAME:CEST
DTSTART:20300331T010000
END:DAYLIGHT
BEGIN:STANDARD
TZOFFSETFROM:+0200
TZOFFSETTO:+0100
TZNAME:CET
DTSTART:20301027T010000
END:STANDARD
BEGIN:DAYLIGHT
TZOFFSETFROM:+0100
TZOFFSETTO:+0200
TZNAME:CEST
DTSTART:20310330T010000
END:DAYLIGHT
BEGIN:STANDARD
TZOFFSETFROM:+0200
TZOFFSETTO:+0100
TZNAME:CET
DTSTART:20311026T010000
END:STANDARD
BEGIN:DAYLIGHT
TZOFFSETFROM:+0100
TZOFFSETTO:+0200
TZNAME:CEST
DTSTART:20320328T010000
END:DAYLIGHT
BEGIN:STANDARD
TZOFFSETFROM:+0200
TZOFFSETTO:+0100
TZNAME:CET
DTSTART:20321031T010000
END:STANDARD
END:VTIMEZONE
BEGIN:VEVENT
DTSTART;TZID=Europe/Amsterdam:20301017T200000
DTEND;TZID=Europe/Amsterdam:20301017T213000
DTSTAMP:20260425T142925
CREATED:20241106T210453Z
LAST-MODIFIED:20241213T145101Z
UID:10002591-1918497600-1918503000@cocnoordoostbrabant.nl
SUMMARY:Volleybal
DESCRIPTION:Elke donderdag avond volleyballen. Voor iedereen\, zowel beginners als gevorderde .
URL:https://cocnoordoostbrabant.nl/event/volleybal/2030-10-17/
LOCATION:‘s-Hertogenbosch\, 's-Hertogenbosch
CATEGORIES:Sport
ATTACH;FMTTYPE=image/jpeg:https://cocnoordoostbrabant.nl/wordpress/wp-content/uploads/2024/11/IMG_8465.jpeg
ORGANIZER;CN="Regenboogsportclub Zoete Lieve Gerritje":MAILTO:info@zlgdenbosch.nl
END:VEVENT
BEGIN:VEVENT
DTSTART;TZID=Europe/Amsterdam:20301019T093000
DTEND;TZID=Europe/Amsterdam:20301019T103000
DTSTAMP:20260425T142925
CREATED:20250216T121535Z
LAST-MODIFIED:20250216T121535Z
UID:10002613-1918632600-1918636200@cocnoordoostbrabant.nl
SUMMARY:Hardlopen met ZLG
DESCRIPTION:Elke zaterdagochtend om 9.30 uur loopt onze hardloopgroep het mooie rondje om de IJzeren Vrouw in het Prins Hendrikpark in Den Bosch. Iedereen is welkom! Of je nu al jaren hardloopt of een echte beginner bent. \nAfstand en tempo\nJe loopt op eigen tempo een afstand naar keuze. Een\, twee\, drie of vier rondjes\, dat bepaal je helemaal zelf. Een rondje is ongeveer 1\,8 km. Na afloop komen we weer samen voor koffie en iets lekkers bij het gezellige theehuis in het park. \nOok een keer meelopen?\nGezellig! Kijk op deze site voor de contactmogelijkheden.
URL:https://cocnoordoostbrabant.nl/event/hardlopen-met-zlg/2030-10-19/
LOCATION:IJzerenvrouw\, 's-Hertogenbosch
CATEGORIES:Sport
ATTACH;FMTTYPE=image/jpeg:https://cocnoordoostbrabant.nl/wordpress/wp-content/uploads/2025/02/IMG_8465-1.jpeg
ORGANIZER;CN="Regenboogsportclub Zoete Lieve Gerritje":MAILTO:info@zlgdenbosch.nl
END:VEVENT
BEGIN:VEVENT
DTSTART;TZID=Europe/Amsterdam:20301024T200000
DTEND;TZID=Europe/Amsterdam:20301024T213000
DTSTAMP:20260425T142925
CREATED:20241106T210453Z
LAST-MODIFIED:20241213T145101Z
UID:10002592-1919102400-1919107800@cocnoordoostbrabant.nl
SUMMARY:Volleybal
DESCRIPTION:Elke donderdag avond volleyballen. Voor iedereen\, zowel beginners als gevorderde .
URL:https://cocnoordoostbrabant.nl/event/volleybal/2030-10-24/
LOCATION:‘s-Hertogenbosch\, 's-Hertogenbosch
CATEGORIES:Sport
ATTACH;FMTTYPE=image/jpeg:https://cocnoordoostbrabant.nl/wordpress/wp-content/uploads/2024/11/IMG_8465.jpeg
ORGANIZER;CN="Regenboogsportclub Zoete Lieve Gerritje":MAILTO:info@zlgdenbosch.nl
END:VEVENT
BEGIN:VEVENT
DTSTART;TZID=Europe/Amsterdam:20301026T093000
DTEND;TZID=Europe/Amsterdam:20301026T103000
DTSTAMP:20260425T142925
CREATED:20250216T121535Z
LAST-MODIFIED:20250216T121535Z
UID:10002614-1919237400-1919241000@cocnoordoostbrabant.nl
SUMMARY:Hardlopen met ZLG
DESCRIPTION:Elke zaterdagochtend om 9.30 uur loopt onze hardloopgroep het mooie rondje om de IJzeren Vrouw in het Prins Hendrikpark in Den Bosch. Iedereen is welkom! Of je nu al jaren hardloopt of een echte beginner bent. \nAfstand en tempo\nJe loopt op eigen tempo een afstand naar keuze. Een\, twee\, drie of vier rondjes\, dat bepaal je helemaal zelf. Een rondje is ongeveer 1\,8 km. Na afloop komen we weer samen voor koffie en iets lekkers bij het gezellige theehuis in het park. \nOok een keer meelopen?\nGezellig! Kijk op deze site voor de contactmogelijkheden.
URL:https://cocnoordoostbrabant.nl/event/hardlopen-met-zlg/2030-10-26/
LOCATION:IJzerenvrouw\, 's-Hertogenbosch
CATEGORIES:Sport
ATTACH;FMTTYPE=image/jpeg:https://cocnoordoostbrabant.nl/wordpress/wp-content/uploads/2025/02/IMG_8465-1.jpeg
ORGANIZER;CN="Regenboogsportclub Zoete Lieve Gerritje":MAILTO:info@zlgdenbosch.nl
END:VEVENT
BEGIN:VEVENT
DTSTART;TZID=Europe/Amsterdam:20301031T200000
DTEND;TZID=Europe/Amsterdam:20301031T213000
DTSTAMP:20260425T142925
CREATED:20241106T210453Z
LAST-MODIFIED:20241213T145101Z
UID:10002593-1919707200-1919712600@cocnoordoostbrabant.nl
SUMMARY:Volleybal
DESCRIPTION:Elke donderdag avond volleyballen. Voor iedereen\, zowel beginners als gevorderde .
URL:https://cocnoordoostbrabant.nl/event/volleybal/2030-10-31/
LOCATION:‘s-Hertogenbosch\, 's-Hertogenbosch
CATEGORIES:Sport
ATTACH;FMTTYPE=image/jpeg:https://cocnoordoostbrabant.nl/wordpress/wp-content/uploads/2024/11/IMG_8465.jpeg
ORGANIZER;CN="Regenboogsportclub Zoete Lieve Gerritje":MAILTO:info@zlgdenbosch.nl
END:VEVENT
BEGIN:VEVENT
DTSTART;TZID=Europe/Amsterdam:20301102T093000
DTEND;TZID=Europe/Amsterdam:20301102T103000
DTSTAMP:20260425T142925
CREATED:20250216T121535Z
LAST-MODIFIED:20250216T121535Z
UID:10002615-1919842200-1919845800@cocnoordoostbrabant.nl
SUMMARY:Hardlopen met ZLG
DESCRIPTION:Elke zaterdagochtend om 9.30 uur loopt onze hardloopgroep het mooie rondje om de IJzeren Vrouw in het Prins Hendrikpark in Den Bosch. Iedereen is welkom! Of je nu al jaren hardloopt of een echte beginner bent. \nAfstand en tempo\nJe loopt op eigen tempo een afstand naar keuze. Een\, twee\, drie of vier rondjes\, dat bepaal je helemaal zelf. Een rondje is ongeveer 1\,8 km. Na afloop komen we weer samen voor koffie en iets lekkers bij het gezellige theehuis in het park. \nOok een keer meelopen?\nGezellig! Kijk op deze site voor de contactmogelijkheden.
URL:https://cocnoordoostbrabant.nl/event/hardlopen-met-zlg/2030-11-02/
LOCATION:IJzerenvrouw\, 's-Hertogenbosch
CATEGORIES:Sport
ATTACH;FMTTYPE=image/jpeg:https://cocnoordoostbrabant.nl/wordpress/wp-content/uploads/2025/02/IMG_8465-1.jpeg
ORGANIZER;CN="Regenboogsportclub Zoete Lieve Gerritje":MAILTO:info@zlgdenbosch.nl
END:VEVENT
BEGIN:VEVENT
DTSTART;TZID=Europe/Amsterdam:20301107T200000
DTEND;TZID=Europe/Amsterdam:20301107T213000
DTSTAMP:20260425T142925
CREATED:20241106T210453Z
LAST-MODIFIED:20241213T145101Z
UID:10002594-1920312000-1920317400@cocnoordoostbrabant.nl
SUMMARY:Volleybal
DESCRIPTION:Elke donderdag avond volleyballen. Voor iedereen\, zowel beginners als gevorderde .
URL:https://cocnoordoostbrabant.nl/event/volleybal/2030-11-07/
LOCATION:‘s-Hertogenbosch\, 's-Hertogenbosch
CATEGORIES:Sport
ATTACH;FMTTYPE=image/jpeg:https://cocnoordoostbrabant.nl/wordpress/wp-content/uploads/2024/11/IMG_8465.jpeg
ORGANIZER;CN="Regenboogsportclub Zoete Lieve Gerritje":MAILTO:info@zlgdenbosch.nl
END:VEVENT
BEGIN:VEVENT
DTSTART;TZID=Europe/Amsterdam:20301109T093000
DTEND;TZID=Europe/Amsterdam:20301109T103000
DTSTAMP:20260425T142925
CREATED:20250216T121535Z
LAST-MODIFIED:20250216T121535Z
UID:10002616-1920447000-1920450600@cocnoordoostbrabant.nl
SUMMARY:Hardlopen met ZLG
DESCRIPTION:Elke zaterdagochtend om 9.30 uur loopt onze hardloopgroep het mooie rondje om de IJzeren Vrouw in het Prins Hendrikpark in Den Bosch. Iedereen is welkom! Of je nu al jaren hardloopt of een echte beginner bent. \nAfstand en tempo\nJe loopt op eigen tempo een afstand naar keuze. Een\, twee\, drie of vier rondjes\, dat bepaal je helemaal zelf. Een rondje is ongeveer 1\,8 km. Na afloop komen we weer samen voor koffie en iets lekkers bij het gezellige theehuis in het park. \nOok een keer meelopen?\nGezellig! Kijk op deze site voor de contactmogelijkheden.
URL:https://cocnoordoostbrabant.nl/event/hardlopen-met-zlg/2030-11-09/
LOCATION:IJzerenvrouw\, 's-Hertogenbosch
CATEGORIES:Sport
ATTACH;FMTTYPE=image/jpeg:https://cocnoordoostbrabant.nl/wordpress/wp-content/uploads/2025/02/IMG_8465-1.jpeg
ORGANIZER;CN="Regenboogsportclub Zoete Lieve Gerritje":MAILTO:info@zlgdenbosch.nl
END:VEVENT
BEGIN:VEVENT
DTSTART;TZID=Europe/Amsterdam:20301114T200000
DTEND;TZID=Europe/Amsterdam:20301114T213000
DTSTAMP:20260425T142925
CREATED:20241106T210453Z
LAST-MODIFIED:20241213T145101Z
UID:10002595-1920916800-1920922200@cocnoordoostbrabant.nl
SUMMARY:Volleybal
DESCRIPTION:Elke donderdag avond volleyballen. Voor iedereen\, zowel beginners als gevorderde .
URL:https://cocnoordoostbrabant.nl/event/volleybal/2030-11-14/
LOCATION:‘s-Hertogenbosch\, 's-Hertogenbosch
CATEGORIES:Sport
ATTACH;FMTTYPE=image/jpeg:https://cocnoordoostbrabant.nl/wordpress/wp-content/uploads/2024/11/IMG_8465.jpeg
ORGANIZER;CN="Regenboogsportclub Zoete Lieve Gerritje":MAILTO:info@zlgdenbosch.nl
END:VEVENT
BEGIN:VEVENT
DTSTART;TZID=Europe/Amsterdam:20301116T093000
DTEND;TZID=Europe/Amsterdam:20301116T103000
DTSTAMP:20260425T142925
CREATED:20250216T121535Z
LAST-MODIFIED:20250216T121535Z
UID:10002617-1921051800-1921055400@cocnoordoostbrabant.nl
SUMMARY:Hardlopen met ZLG
DESCRIPTION:Elke zaterdagochtend om 9.30 uur loopt onze hardloopgroep het mooie rondje om de IJzeren Vrouw in het Prins Hendrikpark in Den Bosch. Iedereen is welkom! Of je nu al jaren hardloopt of een echte beginner bent. \nAfstand en tempo\nJe loopt op eigen tempo een afstand naar keuze. Een\, twee\, drie of vier rondjes\, dat bepaal je helemaal zelf. Een rondje is ongeveer 1\,8 km. Na afloop komen we weer samen voor koffie en iets lekkers bij het gezellige theehuis in het park. \nOok een keer meelopen?\nGezellig! Kijk op deze site voor de contactmogelijkheden.
URL:https://cocnoordoostbrabant.nl/event/hardlopen-met-zlg/2030-11-16/
LOCATION:IJzerenvrouw\, 's-Hertogenbosch
CATEGORIES:Sport
ATTACH;FMTTYPE=image/jpeg:https://cocnoordoostbrabant.nl/wordpress/wp-content/uploads/2025/02/IMG_8465-1.jpeg
ORGANIZER;CN="Regenboogsportclub Zoete Lieve Gerritje":MAILTO:info@zlgdenbosch.nl
END:VEVENT
BEGIN:VEVENT
DTSTART;TZID=Europe/Amsterdam:20301121T200000
DTEND;TZID=Europe/Amsterdam:20301121T213000
DTSTAMP:20260425T142925
CREATED:20241106T210453Z
LAST-MODIFIED:20241213T145101Z
UID:10002596-1921521600-1921527000@cocnoordoostbrabant.nl
SUMMARY:Volleybal
DESCRIPTION:Elke donderdag avond volleyballen. Voor iedereen\, zowel beginners als gevorderde .
URL:https://cocnoordoostbrabant.nl/event/volleybal/2030-11-21/
LOCATION:‘s-Hertogenbosch\, 's-Hertogenbosch
CATEGORIES:Sport
ATTACH;FMTTYPE=image/jpeg:https://cocnoordoostbrabant.nl/wordpress/wp-content/uploads/2024/11/IMG_8465.jpeg
ORGANIZER;CN="Regenboogsportclub Zoete Lieve Gerritje":MAILTO:info@zlgdenbosch.nl
END:VEVENT
BEGIN:VEVENT
DTSTART;TZID=Europe/Amsterdam:20301123T093000
DTEND;TZID=Europe/Amsterdam:20301123T103000
DTSTAMP:20260425T142925
CREATED:20250216T121535Z
LAST-MODIFIED:20250216T121535Z
UID:10002618-1921656600-1921660200@cocnoordoostbrabant.nl
SUMMARY:Hardlopen met ZLG
DESCRIPTION:Elke zaterdagochtend om 9.30 uur loopt onze hardloopgroep het mooie rondje om de IJzeren Vrouw in het Prins Hendrikpark in Den Bosch. Iedereen is welkom! Of je nu al jaren hardloopt of een echte beginner bent. \nAfstand en tempo\nJe loopt op eigen tempo een afstand naar keuze. Een\, twee\, drie of vier rondjes\, dat bepaal je helemaal zelf. Een rondje is ongeveer 1\,8 km. Na afloop komen we weer samen voor koffie en iets lekkers bij het gezellige theehuis in het park. \nOok een keer meelopen?\nGezellig! Kijk op deze site voor de contactmogelijkheden.
URL:https://cocnoordoostbrabant.nl/event/hardlopen-met-zlg/2030-11-23/
LOCATION:IJzerenvrouw\, 's-Hertogenbosch
CATEGORIES:Sport
ATTACH;FMTTYPE=image/jpeg:https://cocnoordoostbrabant.nl/wordpress/wp-content/uploads/2025/02/IMG_8465-1.jpeg
ORGANIZER;CN="Regenboogsportclub Zoete Lieve Gerritje":MAILTO:info@zlgdenbosch.nl
END:VEVENT
BEGIN:VEVENT
DTSTART;TZID=Europe/Amsterdam:20301128T200000
DTEND;TZID=Europe/Amsterdam:20301128T213000
DTSTAMP:20260425T142925
CREATED:20241106T210453Z
LAST-MODIFIED:20241213T145101Z
UID:10002597-1922126400-1922131800@cocnoordoostbrabant.nl
SUMMARY:Volleybal
DESCRIPTION:Elke donderdag avond volleyballen. Voor iedereen\, zowel beginners als gevorderde .
URL:https://cocnoordoostbrabant.nl/event/volleybal/2030-11-28/
LOCATION:‘s-Hertogenbosch\, 's-Hertogenbosch
CATEGORIES:Sport
ATTACH;FMTTYPE=image/jpeg:https://cocnoordoostbrabant.nl/wordpress/wp-content/uploads/2024/11/IMG_8465.jpeg
ORGANIZER;CN="Regenboogsportclub Zoete Lieve Gerritje":MAILTO:info@zlgdenbosch.nl
END:VEVENT
BEGIN:VEVENT
DTSTART;TZID=Europe/Amsterdam:20301130T093000
DTEND;TZID=Europe/Amsterdam:20301130T103000
DTSTAMP:20260425T142925
CREATED:20250216T121535Z
LAST-MODIFIED:20250216T121535Z
UID:10002619-1922261400-1922265000@cocnoordoostbrabant.nl
SUMMARY:Hardlopen met ZLG
DESCRIPTION:Elke zaterdagochtend om 9.30 uur loopt onze hardloopgroep het mooie rondje om de IJzeren Vrouw in het Prins Hendrikpark in Den Bosch. Iedereen is welkom! Of je nu al jaren hardloopt of een echte beginner bent. \nAfstand en tempo\nJe loopt op eigen tempo een afstand naar keuze. Een\, twee\, drie of vier rondjes\, dat bepaal je helemaal zelf. Een rondje is ongeveer 1\,8 km. Na afloop komen we weer samen voor koffie en iets lekkers bij het gezellige theehuis in het park. \nOok een keer meelopen?\nGezellig! Kijk op deze site voor de contactmogelijkheden.
URL:https://cocnoordoostbrabant.nl/event/hardlopen-met-zlg/2030-11-30/
LOCATION:IJzerenvrouw\, 's-Hertogenbosch
CATEGORIES:Sport
ATTACH;FMTTYPE=image/jpeg:https://cocnoordoostbrabant.nl/wordpress/wp-content/uploads/2025/02/IMG_8465-1.jpeg
ORGANIZER;CN="Regenboogsportclub Zoete Lieve Gerritje":MAILTO:info@zlgdenbosch.nl
END:VEVENT
BEGIN:VEVENT
DTSTART;TZID=Europe/Amsterdam:20301205T200000
DTEND;TZID=Europe/Amsterdam:20301205T213000
DTSTAMP:20260425T142925
CREATED:20241106T210453Z
LAST-MODIFIED:20241213T145101Z
UID:10002598-1922731200-1922736600@cocnoordoostbrabant.nl
SUMMARY:Volleybal
DESCRIPTION:Elke donderdag avond volleyballen. Voor iedereen\, zowel beginners als gevorderde .
URL:https://cocnoordoostbrabant.nl/event/volleybal/2030-12-05/
LOCATION:‘s-Hertogenbosch\, 's-Hertogenbosch
CATEGORIES:Sport
ATTACH;FMTTYPE=image/jpeg:https://cocnoordoostbrabant.nl/wordpress/wp-content/uploads/2024/11/IMG_8465.jpeg
ORGANIZER;CN="Regenboogsportclub Zoete Lieve Gerritje":MAILTO:info@zlgdenbosch.nl
END:VEVENT
BEGIN:VEVENT
DTSTART;TZID=Europe/Amsterdam:20301207T093000
DTEND;TZID=Europe/Amsterdam:20301207T103000
DTSTAMP:20260425T142925
CREATED:20250216T121535Z
LAST-MODIFIED:20250216T121535Z
UID:10002620-1922866200-1922869800@cocnoordoostbrabant.nl
SUMMARY:Hardlopen met ZLG
DESCRIPTION:Elke zaterdagochtend om 9.30 uur loopt onze hardloopgroep het mooie rondje om de IJzeren Vrouw in het Prins Hendrikpark in Den Bosch. Iedereen is welkom! Of je nu al jaren hardloopt of een echte beginner bent. \nAfstand en tempo\nJe loopt op eigen tempo een afstand naar keuze. Een\, twee\, drie of vier rondjes\, dat bepaal je helemaal zelf. Een rondje is ongeveer 1\,8 km. Na afloop komen we weer samen voor koffie en iets lekkers bij het gezellige theehuis in het park. \nOok een keer meelopen?\nGezellig! Kijk op deze site voor de contactmogelijkheden.
URL:https://cocnoordoostbrabant.nl/event/hardlopen-met-zlg/2030-12-07/
LOCATION:IJzerenvrouw\, 's-Hertogenbosch
CATEGORIES:Sport
ATTACH;FMTTYPE=image/jpeg:https://cocnoordoostbrabant.nl/wordpress/wp-content/uploads/2025/02/IMG_8465-1.jpeg
ORGANIZER;CN="Regenboogsportclub Zoete Lieve Gerritje":MAILTO:info@zlgdenbosch.nl
END:VEVENT
BEGIN:VEVENT
DTSTART;TZID=Europe/Amsterdam:20301212T200000
DTEND;TZID=Europe/Amsterdam:20301212T213000
DTSTAMP:20260425T142925
CREATED:20241106T210453Z
LAST-MODIFIED:20241213T145101Z
UID:10002599-1923336000-1923341400@cocnoordoostbrabant.nl
SUMMARY:Volleybal
DESCRIPTION:Elke donderdag avond volleyballen. Voor iedereen\, zowel beginners als gevorderde .
URL:https://cocnoordoostbrabant.nl/event/volleybal/2030-12-12/
LOCATION:‘s-Hertogenbosch\, 's-Hertogenbosch
CATEGORIES:Sport
ATTACH;FMTTYPE=image/jpeg:https://cocnoordoostbrabant.nl/wordpress/wp-content/uploads/2024/11/IMG_8465.jpeg
ORGANIZER;CN="Regenboogsportclub Zoete Lieve Gerritje":MAILTO:info@zlgdenbosch.nl
END:VEVENT
BEGIN:VEVENT
DTSTART;TZID=Europe/Amsterdam:20301214T093000
DTEND;TZID=Europe/Amsterdam:20301214T103000
DTSTAMP:20260425T142925
CREATED:20250216T121535Z
LAST-MODIFIED:20250216T121535Z
UID:10002621-1923471000-1923474600@cocnoordoostbrabant.nl
SUMMARY:Hardlopen met ZLG
DESCRIPTION:Elke zaterdagochtend om 9.30 uur loopt onze hardloopgroep het mooie rondje om de IJzeren Vrouw in het Prins Hendrikpark in Den Bosch. Iedereen is welkom! Of je nu al jaren hardloopt of een echte beginner bent. \nAfstand en tempo\nJe loopt op eigen tempo een afstand naar keuze. Een\, twee\, drie of vier rondjes\, dat bepaal je helemaal zelf. Een rondje is ongeveer 1\,8 km. Na afloop komen we weer samen voor koffie en iets lekkers bij het gezellige theehuis in het park. \nOok een keer meelopen?\nGezellig! Kijk op deze site voor de contactmogelijkheden.
URL:https://cocnoordoostbrabant.nl/event/hardlopen-met-zlg/2030-12-14/
LOCATION:IJzerenvrouw\, 's-Hertogenbosch
CATEGORIES:Sport
ATTACH;FMTTYPE=image/jpeg:https://cocnoordoostbrabant.nl/wordpress/wp-content/uploads/2025/02/IMG_8465-1.jpeg
ORGANIZER;CN="Regenboogsportclub Zoete Lieve Gerritje":MAILTO:info@zlgdenbosch.nl
END:VEVENT
BEGIN:VEVENT
DTSTART;TZID=Europe/Amsterdam:20301219T200000
DTEND;TZID=Europe/Amsterdam:20301219T213000
DTSTAMP:20260425T142925
CREATED:20241106T210453Z
LAST-MODIFIED:20241213T145101Z
UID:10002600-1923940800-1923946200@cocnoordoostbrabant.nl
SUMMARY:Volleybal
DESCRIPTION:Elke donderdag avond volleyballen. Voor iedereen\, zowel beginners als gevorderde .
URL:https://cocnoordoostbrabant.nl/event/volleybal/2030-12-19/
LOCATION:‘s-Hertogenbosch\, 's-Hertogenbosch
CATEGORIES:Sport
ATTACH;FMTTYPE=image/jpeg:https://cocnoordoostbrabant.nl/wordpress/wp-content/uploads/2024/11/IMG_8465.jpeg
ORGANIZER;CN="Regenboogsportclub Zoete Lieve Gerritje":MAILTO:info@zlgdenbosch.nl
END:VEVENT
BEGIN:VEVENT
DTSTART;TZID=Europe/Amsterdam:20301221T093000
DTEND;TZID=Europe/Amsterdam:20301221T103000
DTSTAMP:20260425T142925
CREATED:20250216T121535Z
LAST-MODIFIED:20250216T121535Z
UID:10002622-1924075800-1924079400@cocnoordoostbrabant.nl
SUMMARY:Hardlopen met ZLG
DESCRIPTION:Elke zaterdagochtend om 9.30 uur loopt onze hardloopgroep het mooie rondje om de IJzeren Vrouw in het Prins Hendrikpark in Den Bosch. Iedereen is welkom! Of je nu al jaren hardloopt of een echte beginner bent. \nAfstand en tempo\nJe loopt op eigen tempo een afstand naar keuze. Een\, twee\, drie of vier rondjes\, dat bepaal je helemaal zelf. Een rondje is ongeveer 1\,8 km. Na afloop komen we weer samen voor koffie en iets lekkers bij het gezellige theehuis in het park. \nOok een keer meelopen?\nGezellig! Kijk op deze site voor de contactmogelijkheden.
URL:https://cocnoordoostbrabant.nl/event/hardlopen-met-zlg/2030-12-21/
LOCATION:IJzerenvrouw\, 's-Hertogenbosch
CATEGORIES:Sport
ATTACH;FMTTYPE=image/jpeg:https://cocnoordoostbrabant.nl/wordpress/wp-content/uploads/2025/02/IMG_8465-1.jpeg
ORGANIZER;CN="Regenboogsportclub Zoete Lieve Gerritje":MAILTO:info@zlgdenbosch.nl
END:VEVENT
BEGIN:VEVENT
DTSTART;TZID=Europe/Amsterdam:20301226T200000
DTEND;TZID=Europe/Amsterdam:20301226T213000
DTSTAMP:20260425T142925
CREATED:20241106T210453Z
LAST-MODIFIED:20241213T145101Z
UID:10002601-1924545600-1924551000@cocnoordoostbrabant.nl
SUMMARY:Volleybal
DESCRIPTION:Elke donderdag avond volleyballen. Voor iedereen\, zowel beginners als gevorderde .
URL:https://cocnoordoostbrabant.nl/event/volleybal/2030-12-26/
LOCATION:‘s-Hertogenbosch\, 's-Hertogenbosch
CATEGORIES:Sport
ATTACH;FMTTYPE=image/jpeg:https://cocnoordoostbrabant.nl/wordpress/wp-content/uploads/2024/11/IMG_8465.jpeg
ORGANIZER;CN="Regenboogsportclub Zoete Lieve Gerritje":MAILTO:info@zlgdenbosch.nl
END:VEVENT
BEGIN:VEVENT
DTSTART;TZID=Europe/Amsterdam:20301228T093000
DTEND;TZID=Europe/Amsterdam:20301228T103000
DTSTAMP:20260425T142925
CREATED:20250216T121535Z
LAST-MODIFIED:20250216T121535Z
UID:10002623-1924680600-1924684200@cocnoordoostbrabant.nl
SUMMARY:Hardlopen met ZLG
DESCRIPTION:Elke zaterdagochtend om 9.30 uur loopt onze hardloopgroep het mooie rondje om de IJzeren Vrouw in het Prins Hendrikpark in Den Bosch. Iedereen is welkom! Of je nu al jaren hardloopt of een echte beginner bent. \nAfstand en tempo\nJe loopt op eigen tempo een afstand naar keuze. Een\, twee\, drie of vier rondjes\, dat bepaal je helemaal zelf. Een rondje is ongeveer 1\,8 km. Na afloop komen we weer samen voor koffie en iets lekkers bij het gezellige theehuis in het park. \nOok een keer meelopen?\nGezellig! Kijk op deze site voor de contactmogelijkheden.
URL:https://cocnoordoostbrabant.nl/event/hardlopen-met-zlg/2030-12-28/
LOCATION:IJzerenvrouw\, 's-Hertogenbosch
CATEGORIES:Sport
ATTACH;FMTTYPE=image/jpeg:https://cocnoordoostbrabant.nl/wordpress/wp-content/uploads/2025/02/IMG_8465-1.jpeg
ORGANIZER;CN="Regenboogsportclub Zoete Lieve Gerritje":MAILTO:info@zlgdenbosch.nl
END:VEVENT
BEGIN:VEVENT
DTSTART;TZID=Europe/Amsterdam:20310102T200000
DTEND;TZID=Europe/Amsterdam:20310102T213000
DTSTAMP:20260425T142925
CREATED:20241106T210453Z
LAST-MODIFIED:20241213T145101Z
UID:10002602-1925150400-1925155800@cocnoordoostbrabant.nl
SUMMARY:Volleybal
DESCRIPTION:Elke donderdag avond volleyballen. Voor iedereen\, zowel beginners als gevorderde .
URL:https://cocnoordoostbrabant.nl/event/volleybal/2031-01-02/
LOCATION:‘s-Hertogenbosch\, 's-Hertogenbosch
CATEGORIES:Sport
ATTACH;FMTTYPE=image/jpeg:https://cocnoordoostbrabant.nl/wordpress/wp-content/uploads/2024/11/IMG_8465.jpeg
ORGANIZER;CN="Regenboogsportclub Zoete Lieve Gerritje":MAILTO:info@zlgdenbosch.nl
END:VEVENT
BEGIN:VEVENT
DTSTART;TZID=Europe/Amsterdam:20310104T093000
DTEND;TZID=Europe/Amsterdam:20310104T103000
DTSTAMP:20260425T142925
CREATED:20250216T121535Z
LAST-MODIFIED:20250216T121535Z
UID:10002624-1925285400-1925289000@cocnoordoostbrabant.nl
SUMMARY:Hardlopen met ZLG
DESCRIPTION:Elke zaterdagochtend om 9.30 uur loopt onze hardloopgroep het mooie rondje om de IJzeren Vrouw in het Prins Hendrikpark in Den Bosch. Iedereen is welkom! Of je nu al jaren hardloopt of een echte beginner bent. \nAfstand en tempo\nJe loopt op eigen tempo een afstand naar keuze. Een\, twee\, drie of vier rondjes\, dat bepaal je helemaal zelf. Een rondje is ongeveer 1\,8 km. Na afloop komen we weer samen voor koffie en iets lekkers bij het gezellige theehuis in het park. \nOok een keer meelopen?\nGezellig! Kijk op deze site voor de contactmogelijkheden.
URL:https://cocnoordoostbrabant.nl/event/hardlopen-met-zlg/2031-01-04/
LOCATION:IJzerenvrouw\, 's-Hertogenbosch
CATEGORIES:Sport
ATTACH;FMTTYPE=image/jpeg:https://cocnoordoostbrabant.nl/wordpress/wp-content/uploads/2025/02/IMG_8465-1.jpeg
ORGANIZER;CN="Regenboogsportclub Zoete Lieve Gerritje":MAILTO:info@zlgdenbosch.nl
END:VEVENT
BEGIN:VEVENT
DTSTART;TZID=Europe/Amsterdam:20310109T200000
DTEND;TZID=Europe/Amsterdam:20310109T213000
DTSTAMP:20260425T142925
CREATED:20241106T210453Z
LAST-MODIFIED:20241213T145101Z
UID:10002603-1925755200-1925760600@cocnoordoostbrabant.nl
SUMMARY:Volleybal
DESCRIPTION:Elke donderdag avond volleyballen. Voor iedereen\, zowel beginners als gevorderde .
URL:https://cocnoordoostbrabant.nl/event/volleybal/2031-01-09/
LOCATION:‘s-Hertogenbosch\, 's-Hertogenbosch
CATEGORIES:Sport
ATTACH;FMTTYPE=image/jpeg:https://cocnoordoostbrabant.nl/wordpress/wp-content/uploads/2024/11/IMG_8465.jpeg
ORGANIZER;CN="Regenboogsportclub Zoete Lieve Gerritje":MAILTO:info@zlgdenbosch.nl
END:VEVENT
BEGIN:VEVENT
DTSTART;TZID=Europe/Amsterdam:20310111T093000
DTEND;TZID=Europe/Amsterdam:20310111T103000
DTSTAMP:20260425T142925
CREATED:20250216T121535Z
LAST-MODIFIED:20250216T121535Z
UID:10002625-1925890200-1925893800@cocnoordoostbrabant.nl
SUMMARY:Hardlopen met ZLG
DESCRIPTION:Elke zaterdagochtend om 9.30 uur loopt onze hardloopgroep het mooie rondje om de IJzeren Vrouw in het Prins Hendrikpark in Den Bosch. Iedereen is welkom! Of je nu al jaren hardloopt of een echte beginner bent. \nAfstand en tempo\nJe loopt op eigen tempo een afstand naar keuze. Een\, twee\, drie of vier rondjes\, dat bepaal je helemaal zelf. Een rondje is ongeveer 1\,8 km. Na afloop komen we weer samen voor koffie en iets lekkers bij het gezellige theehuis in het park. \nOok een keer meelopen?\nGezellig! Kijk op deze site voor de contactmogelijkheden.
URL:https://cocnoordoostbrabant.nl/event/hardlopen-met-zlg/2031-01-11/
LOCATION:IJzerenvrouw\, 's-Hertogenbosch
CATEGORIES:Sport
ATTACH;FMTTYPE=image/jpeg:https://cocnoordoostbrabant.nl/wordpress/wp-content/uploads/2025/02/IMG_8465-1.jpeg
ORGANIZER;CN="Regenboogsportclub Zoete Lieve Gerritje":MAILTO:info@zlgdenbosch.nl
END:VEVENT
BEGIN:VEVENT
DTSTART;TZID=Europe/Amsterdam:20310116T200000
DTEND;TZID=Europe/Amsterdam:20310116T213000
DTSTAMP:20260425T142925
CREATED:20241106T210453Z
LAST-MODIFIED:20241213T145101Z
UID:10002604-1926360000-1926365400@cocnoordoostbrabant.nl
SUMMARY:Volleybal
DESCRIPTION:Elke donderdag avond volleyballen. Voor iedereen\, zowel beginners als gevorderde .
URL:https://cocnoordoostbrabant.nl/event/volleybal/2031-01-16/
LOCATION:‘s-Hertogenbosch\, 's-Hertogenbosch
CATEGORIES:Sport
ATTACH;FMTTYPE=image/jpeg:https://cocnoordoostbrabant.nl/wordpress/wp-content/uploads/2024/11/IMG_8465.jpeg
ORGANIZER;CN="Regenboogsportclub Zoete Lieve Gerritje":MAILTO:info@zlgdenbosch.nl
END:VEVENT
BEGIN:VEVENT
DTSTART;TZID=Europe/Amsterdam:20310118T093000
DTEND;TZID=Europe/Amsterdam:20310118T103000
DTSTAMP:20260425T142925
CREATED:20250216T121535Z
LAST-MODIFIED:20250216T121535Z
UID:10002626-1926495000-1926498600@cocnoordoostbrabant.nl
SUMMARY:Hardlopen met ZLG
DESCRIPTION:Elke zaterdagochtend om 9.30 uur loopt onze hardloopgroep het mooie rondje om de IJzeren Vrouw in het Prins Hendrikpark in Den Bosch. Iedereen is welkom! Of je nu al jaren hardloopt of een echte beginner bent. \nAfstand en tempo\nJe loopt op eigen tempo een afstand naar keuze. Een\, twee\, drie of vier rondjes\, dat bepaal je helemaal zelf. Een rondje is ongeveer 1\,8 km. Na afloop komen we weer samen voor koffie en iets lekkers bij het gezellige theehuis in het park. \nOok een keer meelopen?\nGezellig! Kijk op deze site voor de contactmogelijkheden.
URL:https://cocnoordoostbrabant.nl/event/hardlopen-met-zlg/2031-01-18/
LOCATION:IJzerenvrouw\, 's-Hertogenbosch
CATEGORIES:Sport
ATTACH;FMTTYPE=image/jpeg:https://cocnoordoostbrabant.nl/wordpress/wp-content/uploads/2025/02/IMG_8465-1.jpeg
ORGANIZER;CN="Regenboogsportclub Zoete Lieve Gerritje":MAILTO:info@zlgdenbosch.nl
END:VEVENT
BEGIN:VEVENT
DTSTART;TZID=Europe/Amsterdam:20310123T200000
DTEND;TZID=Europe/Amsterdam:20310123T213000
DTSTAMP:20260425T142925
CREATED:20241106T210453Z
LAST-MODIFIED:20241213T145101Z
UID:10002605-1926964800-1926970200@cocnoordoostbrabant.nl
SUMMARY:Volleybal
DESCRIPTION:Elke donderdag avond volleyballen. Voor iedereen\, zowel beginners als gevorderde .
URL:https://cocnoordoostbrabant.nl/event/volleybal/2031-01-23/
LOCATION:‘s-Hertogenbosch\, 's-Hertogenbosch
CATEGORIES:Sport
ATTACH;FMTTYPE=image/jpeg:https://cocnoordoostbrabant.nl/wordpress/wp-content/uploads/2024/11/IMG_8465.jpeg
ORGANIZER;CN="Regenboogsportclub Zoete Lieve Gerritje":MAILTO:info@zlgdenbosch.nl
END:VEVENT
BEGIN:VEVENT
DTSTART;TZID=Europe/Amsterdam:20310125T093000
DTEND;TZID=Europe/Amsterdam:20310125T103000
DTSTAMP:20260425T142925
CREATED:20250216T121535Z
LAST-MODIFIED:20250216T121535Z
UID:10002627-1927099800-1927103400@cocnoordoostbrabant.nl
SUMMARY:Hardlopen met ZLG
DESCRIPTION:Elke zaterdagochtend om 9.30 uur loopt onze hardloopgroep het mooie rondje om de IJzeren Vrouw in het Prins Hendrikpark in Den Bosch. Iedereen is welkom! Of je nu al jaren hardloopt of een echte beginner bent. \nAfstand en tempo\nJe loopt op eigen tempo een afstand naar keuze. Een\, twee\, drie of vier rondjes\, dat bepaal je helemaal zelf. Een rondje is ongeveer 1\,8 km. Na afloop komen we weer samen voor koffie en iets lekkers bij het gezellige theehuis in het park. \nOok een keer meelopen?\nGezellig! Kijk op deze site voor de contactmogelijkheden.
URL:https://cocnoordoostbrabant.nl/event/hardlopen-met-zlg/2031-01-25/
LOCATION:IJzerenvrouw\, 's-Hertogenbosch
CATEGORIES:Sport
ATTACH;FMTTYPE=image/jpeg:https://cocnoordoostbrabant.nl/wordpress/wp-content/uploads/2025/02/IMG_8465-1.jpeg
ORGANIZER;CN="Regenboogsportclub Zoete Lieve Gerritje":MAILTO:info@zlgdenbosch.nl
END:VEVENT
END:VCALENDAR