BEGIN:VCALENDAR
VERSION:2.0
PRODID:-//COC Noordoost-Brabant - ECPv6.15.18//NONSGML v1.0//EN
CALSCALE:GREGORIAN
METHOD:PUBLISH
X-ORIGINAL-URL:https://cocnoordoostbrabant.nl
X-WR-CALDESC:Evenementen voor COC Noordoost-Brabant
REFRESH-INTERVAL;VALUE=DURATION:PT1H
X-Robots-Tag:noindex
X-PUBLISHED-TTL:PT1H
BEGIN:VTIMEZONE
TZID:Europe/Amsterdam
BEGIN:DAYLIGHT
TZOFFSETFROM:+0100
TZOFFSETTO:+0200
TZNAME:CEST
DTSTART:20260329T010000
END:DAYLIGHT
BEGIN:STANDARD
TZOFFSETFROM:+0200
TZOFFSETTO:+0100
TZNAME:CET
DTSTART:20261025T010000
END:STANDARD
BEGIN:DAYLIGHT
TZOFFSETFROM:+0100
TZOFFSETTO:+0200
TZNAME:CEST
DTSTART:20270328T010000
END:DAYLIGHT
BEGIN:STANDARD
TZOFFSETFROM:+0200
TZOFFSETTO:+0100
TZNAME:CET
DTSTART:20271031T010000
END:STANDARD
BEGIN:DAYLIGHT
TZOFFSETFROM:+0100
TZOFFSETTO:+0200
TZNAME:CEST
DTSTART:20280326T010000
END:DAYLIGHT
BEGIN:STANDARD
TZOFFSETFROM:+0200
TZOFFSETTO:+0100
TZNAME:CET
DTSTART:20281029T010000
END:STANDARD
END:VTIMEZONE
BEGIN:VEVENT
DTSTART;TZID=Europe/Amsterdam:20270701T200000
DTEND;TZID=Europe/Amsterdam:20270701T213000
DTSTAMP:20260424T074422
CREATED:20241106T210453Z
LAST-MODIFIED:20241213T145101Z
UID:10001235-1814472000-1814477400@cocnoordoostbrabant.nl
SUMMARY:Volleybal
DESCRIPTION:Elke donderdag avond volleyballen. Voor iedereen\, zowel beginners als gevorderde .
URL:https://cocnoordoostbrabant.nl/event/volleybal/2027-07-01/
LOCATION:‘s-Hertogenbosch\, 's-Hertogenbosch
CATEGORIES:Sport
ATTACH;FMTTYPE=image/jpeg:https://cocnoordoostbrabant.nl/wordpress/wp-content/uploads/2024/11/IMG_8465.jpeg
ORGANIZER;CN="Regenboogsportclub Zoete Lieve Gerritje":MAILTO:info@zlgdenbosch.nl
END:VEVENT
BEGIN:VEVENT
DTSTART;TZID=Europe/Amsterdam:20270703T093000
DTEND;TZID=Europe/Amsterdam:20270703T103000
DTSTAMP:20260424T074422
CREATED:20250216T121535Z
LAST-MODIFIED:20250216T121535Z
UID:10001910-1814607000-1814610600@cocnoordoostbrabant.nl
SUMMARY:Hardlopen met ZLG
DESCRIPTION:Elke zaterdagochtend om 9.30 uur loopt onze hardloopgroep het mooie rondje om de IJzeren Vrouw in het Prins Hendrikpark in Den Bosch. Iedereen is welkom! Of je nu al jaren hardloopt of een echte beginner bent. \nAfstand en tempo\nJe loopt op eigen tempo een afstand naar keuze. Een\, twee\, drie of vier rondjes\, dat bepaal je helemaal zelf. Een rondje is ongeveer 1\,8 km. Na afloop komen we weer samen voor koffie en iets lekkers bij het gezellige theehuis in het park. \nOok een keer meelopen?\nGezellig! Kijk op deze site voor de contactmogelijkheden.
URL:https://cocnoordoostbrabant.nl/event/hardlopen-met-zlg/2027-07-03/
LOCATION:IJzerenvrouw\, 's-Hertogenbosch
CATEGORIES:Sport
ATTACH;FMTTYPE=image/jpeg:https://cocnoordoostbrabant.nl/wordpress/wp-content/uploads/2025/02/IMG_8465-1.jpeg
ORGANIZER;CN="Regenboogsportclub Zoete Lieve Gerritje":MAILTO:info@zlgdenbosch.nl
END:VEVENT
BEGIN:VEVENT
DTSTART;TZID=Europe/Amsterdam:20270708T200000
DTEND;TZID=Europe/Amsterdam:20270708T213000
DTSTAMP:20260424T074422
CREATED:20241106T210453Z
LAST-MODIFIED:20241213T145101Z
UID:10001237-1815076800-1815082200@cocnoordoostbrabant.nl
SUMMARY:Volleybal
DESCRIPTION:Elke donderdag avond volleyballen. Voor iedereen\, zowel beginners als gevorderde .
URL:https://cocnoordoostbrabant.nl/event/volleybal/2027-07-08/
LOCATION:‘s-Hertogenbosch\, 's-Hertogenbosch
CATEGORIES:Sport
ATTACH;FMTTYPE=image/jpeg:https://cocnoordoostbrabant.nl/wordpress/wp-content/uploads/2024/11/IMG_8465.jpeg
ORGANIZER;CN="Regenboogsportclub Zoete Lieve Gerritje":MAILTO:info@zlgdenbosch.nl
END:VEVENT
BEGIN:VEVENT
DTSTART;TZID=Europe/Amsterdam:20270710T093000
DTEND;TZID=Europe/Amsterdam:20270710T103000
DTSTAMP:20260424T074422
CREATED:20250216T121535Z
LAST-MODIFIED:20250216T121535Z
UID:10001911-1815211800-1815215400@cocnoordoostbrabant.nl
SUMMARY:Hardlopen met ZLG
DESCRIPTION:Elke zaterdagochtend om 9.30 uur loopt onze hardloopgroep het mooie rondje om de IJzeren Vrouw in het Prins Hendrikpark in Den Bosch. Iedereen is welkom! Of je nu al jaren hardloopt of een echte beginner bent. \nAfstand en tempo\nJe loopt op eigen tempo een afstand naar keuze. Een\, twee\, drie of vier rondjes\, dat bepaal je helemaal zelf. Een rondje is ongeveer 1\,8 km. Na afloop komen we weer samen voor koffie en iets lekkers bij het gezellige theehuis in het park. \nOok een keer meelopen?\nGezellig! Kijk op deze site voor de contactmogelijkheden.
URL:https://cocnoordoostbrabant.nl/event/hardlopen-met-zlg/2027-07-10/
LOCATION:IJzerenvrouw\, 's-Hertogenbosch
CATEGORIES:Sport
ATTACH;FMTTYPE=image/jpeg:https://cocnoordoostbrabant.nl/wordpress/wp-content/uploads/2025/02/IMG_8465-1.jpeg
ORGANIZER;CN="Regenboogsportclub Zoete Lieve Gerritje":MAILTO:info@zlgdenbosch.nl
END:VEVENT
BEGIN:VEVENT
DTSTART;TZID=Europe/Amsterdam:20270715T200000
DTEND;TZID=Europe/Amsterdam:20270715T213000
DTSTAMP:20260424T074422
CREATED:20241106T210453Z
LAST-MODIFIED:20241213T145101Z
UID:10001239-1815681600-1815687000@cocnoordoostbrabant.nl
SUMMARY:Volleybal
DESCRIPTION:Elke donderdag avond volleyballen. Voor iedereen\, zowel beginners als gevorderde .
URL:https://cocnoordoostbrabant.nl/event/volleybal/2027-07-15/
LOCATION:‘s-Hertogenbosch\, 's-Hertogenbosch
CATEGORIES:Sport
ATTACH;FMTTYPE=image/jpeg:https://cocnoordoostbrabant.nl/wordpress/wp-content/uploads/2024/11/IMG_8465.jpeg
ORGANIZER;CN="Regenboogsportclub Zoete Lieve Gerritje":MAILTO:info@zlgdenbosch.nl
END:VEVENT
BEGIN:VEVENT
DTSTART;TZID=Europe/Amsterdam:20270717T093000
DTEND;TZID=Europe/Amsterdam:20270717T103000
DTSTAMP:20260424T074422
CREATED:20250216T121535Z
LAST-MODIFIED:20250216T121535Z
UID:10001912-1815816600-1815820200@cocnoordoostbrabant.nl
SUMMARY:Hardlopen met ZLG
DESCRIPTION:Elke zaterdagochtend om 9.30 uur loopt onze hardloopgroep het mooie rondje om de IJzeren Vrouw in het Prins Hendrikpark in Den Bosch. Iedereen is welkom! Of je nu al jaren hardloopt of een echte beginner bent. \nAfstand en tempo\nJe loopt op eigen tempo een afstand naar keuze. Een\, twee\, drie of vier rondjes\, dat bepaal je helemaal zelf. Een rondje is ongeveer 1\,8 km. Na afloop komen we weer samen voor koffie en iets lekkers bij het gezellige theehuis in het park. \nOok een keer meelopen?\nGezellig! Kijk op deze site voor de contactmogelijkheden.
URL:https://cocnoordoostbrabant.nl/event/hardlopen-met-zlg/2027-07-17/
LOCATION:IJzerenvrouw\, 's-Hertogenbosch
CATEGORIES:Sport
ATTACH;FMTTYPE=image/jpeg:https://cocnoordoostbrabant.nl/wordpress/wp-content/uploads/2025/02/IMG_8465-1.jpeg
ORGANIZER;CN="Regenboogsportclub Zoete Lieve Gerritje":MAILTO:info@zlgdenbosch.nl
END:VEVENT
BEGIN:VEVENT
DTSTART;TZID=Europe/Amsterdam:20270722T200000
DTEND;TZID=Europe/Amsterdam:20270722T213000
DTSTAMP:20260424T074422
CREATED:20241106T210453Z
LAST-MODIFIED:20241213T145101Z
UID:10001241-1816286400-1816291800@cocnoordoostbrabant.nl
SUMMARY:Volleybal
DESCRIPTION:Elke donderdag avond volleyballen. Voor iedereen\, zowel beginners als gevorderde .
URL:https://cocnoordoostbrabant.nl/event/volleybal/2027-07-22/
LOCATION:‘s-Hertogenbosch\, 's-Hertogenbosch
CATEGORIES:Sport
ATTACH;FMTTYPE=image/jpeg:https://cocnoordoostbrabant.nl/wordpress/wp-content/uploads/2024/11/IMG_8465.jpeg
ORGANIZER;CN="Regenboogsportclub Zoete Lieve Gerritje":MAILTO:info@zlgdenbosch.nl
END:VEVENT
BEGIN:VEVENT
DTSTART;TZID=Europe/Amsterdam:20270724T093000
DTEND;TZID=Europe/Amsterdam:20270724T103000
DTSTAMP:20260424T074422
CREATED:20250216T121535Z
LAST-MODIFIED:20250216T121535Z
UID:10001913-1816421400-1816425000@cocnoordoostbrabant.nl
SUMMARY:Hardlopen met ZLG
DESCRIPTION:Elke zaterdagochtend om 9.30 uur loopt onze hardloopgroep het mooie rondje om de IJzeren Vrouw in het Prins Hendrikpark in Den Bosch. Iedereen is welkom! Of je nu al jaren hardloopt of een echte beginner bent. \nAfstand en tempo\nJe loopt op eigen tempo een afstand naar keuze. Een\, twee\, drie of vier rondjes\, dat bepaal je helemaal zelf. Een rondje is ongeveer 1\,8 km. Na afloop komen we weer samen voor koffie en iets lekkers bij het gezellige theehuis in het park. \nOok een keer meelopen?\nGezellig! Kijk op deze site voor de contactmogelijkheden.
URL:https://cocnoordoostbrabant.nl/event/hardlopen-met-zlg/2027-07-24/
LOCATION:IJzerenvrouw\, 's-Hertogenbosch
CATEGORIES:Sport
ATTACH;FMTTYPE=image/jpeg:https://cocnoordoostbrabant.nl/wordpress/wp-content/uploads/2025/02/IMG_8465-1.jpeg
ORGANIZER;CN="Regenboogsportclub Zoete Lieve Gerritje":MAILTO:info@zlgdenbosch.nl
END:VEVENT
BEGIN:VEVENT
DTSTART;TZID=Europe/Amsterdam:20270729T200000
DTEND;TZID=Europe/Amsterdam:20270729T213000
DTSTAMP:20260424T074422
CREATED:20241106T210453Z
LAST-MODIFIED:20241213T145101Z
UID:10001243-1816891200-1816896600@cocnoordoostbrabant.nl
SUMMARY:Volleybal
DESCRIPTION:Elke donderdag avond volleyballen. Voor iedereen\, zowel beginners als gevorderde .
URL:https://cocnoordoostbrabant.nl/event/volleybal/2027-07-29/
LOCATION:‘s-Hertogenbosch\, 's-Hertogenbosch
CATEGORIES:Sport
ATTACH;FMTTYPE=image/jpeg:https://cocnoordoostbrabant.nl/wordpress/wp-content/uploads/2024/11/IMG_8465.jpeg
ORGANIZER;CN="Regenboogsportclub Zoete Lieve Gerritje":MAILTO:info@zlgdenbosch.nl
END:VEVENT
BEGIN:VEVENT
DTSTART;TZID=Europe/Amsterdam:20270731T093000
DTEND;TZID=Europe/Amsterdam:20270731T103000
DTSTAMP:20260424T074422
CREATED:20250216T121535Z
LAST-MODIFIED:20250216T121535Z
UID:10001914-1817026200-1817029800@cocnoordoostbrabant.nl
SUMMARY:Hardlopen met ZLG
DESCRIPTION:Elke zaterdagochtend om 9.30 uur loopt onze hardloopgroep het mooie rondje om de IJzeren Vrouw in het Prins Hendrikpark in Den Bosch. Iedereen is welkom! Of je nu al jaren hardloopt of een echte beginner bent. \nAfstand en tempo\nJe loopt op eigen tempo een afstand naar keuze. Een\, twee\, drie of vier rondjes\, dat bepaal je helemaal zelf. Een rondje is ongeveer 1\,8 km. Na afloop komen we weer samen voor koffie en iets lekkers bij het gezellige theehuis in het park. \nOok een keer meelopen?\nGezellig! Kijk op deze site voor de contactmogelijkheden.
URL:https://cocnoordoostbrabant.nl/event/hardlopen-met-zlg/2027-07-31/
LOCATION:IJzerenvrouw\, 's-Hertogenbosch
CATEGORIES:Sport
ATTACH;FMTTYPE=image/jpeg:https://cocnoordoostbrabant.nl/wordpress/wp-content/uploads/2025/02/IMG_8465-1.jpeg
ORGANIZER;CN="Regenboogsportclub Zoete Lieve Gerritje":MAILTO:info@zlgdenbosch.nl
END:VEVENT
END:VCALENDAR