BEGIN:VCALENDAR
VERSION:2.0
PRODID:-//COC Noordoost-Brabant - ECPv6.15.18//NONSGML v1.0//EN
CALSCALE:GREGORIAN
METHOD:PUBLISH
X-WR-CALNAME:COC Noordoost-Brabant
X-ORIGINAL-URL:https://cocnoordoostbrabant.nl
X-WR-CALDESC:Evenementen voor COC Noordoost-Brabant
REFRESH-INTERVAL;VALUE=DURATION:PT1H
X-Robots-Tag:noindex
X-PUBLISHED-TTL:PT1H
BEGIN:VTIMEZONE
TZID:Europe/Amsterdam
BEGIN:DAYLIGHT
TZOFFSETFROM:+0100
TZOFFSETTO:+0200
TZNAME:CEST
DTSTART:20250330T010000
END:DAYLIGHT
BEGIN:STANDARD
TZOFFSETFROM:+0200
TZOFFSETTO:+0100
TZNAME:CET
DTSTART:20251026T010000
END:STANDARD
BEGIN:DAYLIGHT
TZOFFSETFROM:+0100
TZOFFSETTO:+0200
TZNAME:CEST
DTSTART:20260329T010000
END:DAYLIGHT
BEGIN:STANDARD
TZOFFSETFROM:+0200
TZOFFSETTO:+0100
TZNAME:CET
DTSTART:20261025T010000
END:STANDARD
BEGIN:DAYLIGHT
TZOFFSETFROM:+0100
TZOFFSETTO:+0200
TZNAME:CEST
DTSTART:20270328T010000
END:DAYLIGHT
BEGIN:STANDARD
TZOFFSETFROM:+0200
TZOFFSETTO:+0100
TZNAME:CET
DTSTART:20271031T010000
END:STANDARD
END:VTIMEZONE
BEGIN:VEVENT
DTSTART;TZID=Europe/Amsterdam:20260503T160000
DTEND;TZID=Europe/Amsterdam:20260503T180000
DTSTAMP:20260423T082820
CREATED:20251006T144012Z
LAST-MODIFIED:20251006T144118Z
UID:10002361-1777824000-1777831200@cocnoordoostbrabant.nl
SUMMARY:Borrel Roze Stadsdorp Den Bosch
DESCRIPTION:De maandelijkse borrel voor 50-plussers is in de Knillispoort\, Korte Waterstraat 15. \nIedereen is welkom\, je hoeft je niet aan te melden. Vind je het een beetje spannend en/of kom je voor het eerst? Laat het even weten aan de gastpersonen bij binnenkomst\, deze zijn herkenbaar aan een naamsticker. \n  \n 
URL:https://cocnoordoostbrabant.nl/event/borrel-roze-stadsdorp-den-bosch-4-2/2026-05-03/
LOCATION:De Knillispoort\, Korte Waterstraat 15\, 's-Hertogenbosch
CATEGORIES:'s-Hertogenbosch,50+,Café & Borrel
ATTACH;FMTTYPE=image/png:https://cocnoordoostbrabant.nl/wordpress/wp-content/uploads/2025/08/Roze-Stadsdorp-Header-PC-1532x300px-scaled.png
ORGANIZER;CN="Roze Stadsdorp Den Bosch":MAILTO:info@rozestadsdorpdenbosch.nl
GEO:51.6894883;5.3054119
X-APPLE-STRUCTURED-LOCATION;VALUE=URI;X-ADDRESS=De Knillispoort Korte Waterstraat 15 's-Hertogenbosch;X-APPLE-RADIUS=500;X-TITLE=Korte Waterstraat 15:geo:5.3054119,51.6894883
END:VEVENT
BEGIN:VEVENT
DTSTART;TZID=Europe/Amsterdam:20260603T160000
DTEND;TZID=Europe/Amsterdam:20260603T180000
DTSTAMP:20260423T082820
CREATED:20251006T143509Z
LAST-MODIFIED:20251006T143510Z
UID:10002329-1780502400-1780509600@cocnoordoostbrabant.nl
SUMMARY:Borrel Roze Stadsdorp Den Bosch
DESCRIPTION:De maandelijkse borrel is in de Keulse Kar\, vanaf 16.00 uur. Iedereen is welkom\, je hoeft je niet aan te melden. \nVind je het een beetje spannend en/of kom je voor het eerst? Meld je dan even bij een gastpersoon\, herkenbaar aan een naamsticker. Gastpersonen zijn tot uiterlijk 18.00 uur aanwezig. \nDe Keulse Kar serveert een vega-daghap voor €10. Daarvoor moet je je WEL aanmelden! Dit kan via reserveringen@dekeulsekar.nl \n 
URL:https://cocnoordoostbrabant.nl/event/borrel-roze-stadsdorp-den-bosch-5-2/2026-06-03/
LOCATION:Cafe Keulse Kar\, Hinthamerstraat 101\, 's-Hertogenbosch\, 5211 MH
CATEGORIES:'s-Hertogenbosch,50+,Café & Borrel
ATTACH;FMTTYPE=image/png:https://cocnoordoostbrabant.nl/wordpress/wp-content/uploads/2025/10/Roze-Stadsdorp-Logo-256x256px-1.png
ORGANIZER;CN="Roze Stadsdorp Den Bosch":MAILTO:info@rozestadsdorpdenbosch.nl
END:VEVENT
BEGIN:VEVENT
DTSTART;TZID=Europe/Amsterdam:20260705T160000
DTEND;TZID=Europe/Amsterdam:20260705T180000
DTSTAMP:20260423T082820
CREATED:20251006T144012Z
LAST-MODIFIED:20251006T144118Z
UID:10002362-1783267200-1783274400@cocnoordoostbrabant.nl
SUMMARY:Borrel Roze Stadsdorp Den Bosch
DESCRIPTION:De maandelijkse borrel voor 50-plussers is in de Knillispoort\, Korte Waterstraat 15. \nIedereen is welkom\, je hoeft je niet aan te melden. Vind je het een beetje spannend en/of kom je voor het eerst? Laat het even weten aan de gastpersonen bij binnenkomst\, deze zijn herkenbaar aan een naamsticker. \n  \n 
URL:https://cocnoordoostbrabant.nl/event/borrel-roze-stadsdorp-den-bosch-4-2/2026-07-05/
LOCATION:De Knillispoort\, Korte Waterstraat 15\, 's-Hertogenbosch
CATEGORIES:'s-Hertogenbosch,50+,Café & Borrel
ATTACH;FMTTYPE=image/png:https://cocnoordoostbrabant.nl/wordpress/wp-content/uploads/2025/08/Roze-Stadsdorp-Header-PC-1532x300px-scaled.png
ORGANIZER;CN="Roze Stadsdorp Den Bosch":MAILTO:info@rozestadsdorpdenbosch.nl
GEO:51.6894883;5.3054119
X-APPLE-STRUCTURED-LOCATION;VALUE=URI;X-ADDRESS=De Knillispoort Korte Waterstraat 15 's-Hertogenbosch;X-APPLE-RADIUS=500;X-TITLE=Korte Waterstraat 15:geo:5.3054119,51.6894883
END:VEVENT
END:VCALENDAR