BEGIN:VCALENDAR
VERSION:2.0
PRODID:-//COC Noordoost-Brabant - ECPv6.15.18//NONSGML v1.0//EN
CALSCALE:GREGORIAN
METHOD:PUBLISH
X-ORIGINAL-URL:https://cocnoordoostbrabant.nl
X-WR-CALDESC:Evenementen voor COC Noordoost-Brabant
REFRESH-INTERVAL;VALUE=DURATION:PT1H
X-Robots-Tag:noindex
X-PUBLISHED-TTL:PT1H
BEGIN:VTIMEZONE
TZID:Europe/Amsterdam
BEGIN:DAYLIGHT
TZOFFSETFROM:+0100
TZOFFSETTO:+0200
TZNAME:CEST
DTSTART:20250330T010000
END:DAYLIGHT
BEGIN:STANDARD
TZOFFSETFROM:+0200
TZOFFSETTO:+0100
TZNAME:CET
DTSTART:20251026T010000
END:STANDARD
BEGIN:DAYLIGHT
TZOFFSETFROM:+0100
TZOFFSETTO:+0200
TZNAME:CEST
DTSTART:20260329T010000
END:DAYLIGHT
BEGIN:STANDARD
TZOFFSETFROM:+0200
TZOFFSETTO:+0100
TZNAME:CET
DTSTART:20261025T010000
END:STANDARD
BEGIN:DAYLIGHT
TZOFFSETFROM:+0100
TZOFFSETTO:+0200
TZNAME:CEST
DTSTART:20270328T010000
END:DAYLIGHT
BEGIN:STANDARD
TZOFFSETFROM:+0200
TZOFFSETTO:+0100
TZNAME:CET
DTSTART:20271031T010000
END:STANDARD
END:VTIMEZONE
BEGIN:VEVENT
DTSTART;TZID=Europe/Amsterdam:20260426T150000
DTEND;TZID=Europe/Amsterdam:20260426T190000
DTSTAMP:20260423T084406
CREATED:20221204T205519Z
LAST-MODIFIED:20251229T193037Z
UID:10002492-1777215600-1777230000@cocnoordoostbrabant.nl
SUMMARY:De Zondagmiddag Borrel
DESCRIPTION:Iedere vierde zondagmiddag\, bijeenkomst voor LHBTI’ers. Check ook de Zondagmiddagsalon-Facebook-pagina.
URL:https://cocnoordoostbrabant.nl/event/de-zondagmiddag-borrel-4/2026-04-26/
LOCATION:De Knillispoort\, Korte Waterstraat 15\, 's-Hertogenbosch
CATEGORIES:'s-Hertogenbosch,Café & Borrel,Sociaal
ATTACH;FMTTYPE=image/png:https://cocnoordoostbrabant.nl/wordpress/wp-content/uploads/2022/12/ZMB-logo.png
ORGANIZER;CN="COC Noordoost-Brabant":MAILTO:info@cocnoordoostbrabant.nl
GEO:51.6894883;5.3054119
X-APPLE-STRUCTURED-LOCATION;VALUE=URI;X-ADDRESS=De Knillispoort Korte Waterstraat 15 's-Hertogenbosch;X-APPLE-RADIUS=500;X-TITLE=Korte Waterstraat 15:geo:5.3054119,51.6894883
END:VEVENT
BEGIN:VEVENT
DTSTART;TZID=Europe/Amsterdam:20260503T160000
DTEND;TZID=Europe/Amsterdam:20260503T180000
DTSTAMP:20260423T084406
CREATED:20251006T144012Z
LAST-MODIFIED:20251006T144118Z
UID:10002361-1777824000-1777831200@cocnoordoostbrabant.nl
SUMMARY:Borrel Roze Stadsdorp Den Bosch
DESCRIPTION:De maandelijkse borrel voor 50-plussers is in de Knillispoort\, Korte Waterstraat 15. \nIedereen is welkom\, je hoeft je niet aan te melden. Vind je het een beetje spannend en/of kom je voor het eerst? Laat het even weten aan de gastpersonen bij binnenkomst\, deze zijn herkenbaar aan een naamsticker. \n  \n 
URL:https://cocnoordoostbrabant.nl/event/borrel-roze-stadsdorp-den-bosch-4-2/2026-05-03/
LOCATION:De Knillispoort\, Korte Waterstraat 15\, 's-Hertogenbosch
CATEGORIES:'s-Hertogenbosch,50+,Café & Borrel
ATTACH;FMTTYPE=image/png:https://cocnoordoostbrabant.nl/wordpress/wp-content/uploads/2025/08/Roze-Stadsdorp-Header-PC-1532x300px-scaled.png
ORGANIZER;CN="Roze Stadsdorp Den Bosch":MAILTO:info@rozestadsdorpdenbosch.nl
GEO:51.6894883;5.3054119
X-APPLE-STRUCTURED-LOCATION;VALUE=URI;X-ADDRESS=De Knillispoort Korte Waterstraat 15 's-Hertogenbosch;X-APPLE-RADIUS=500;X-TITLE=Korte Waterstraat 15:geo:5.3054119,51.6894883
END:VEVENT
BEGIN:VEVENT
DTSTART;TZID=Europe/Amsterdam:20260517T150000
DTEND;TZID=Europe/Amsterdam:20260517T190000
DTSTAMP:20260423T084406
CREATED:20260402T155915Z
LAST-MODIFIED:20260402T155943Z
UID:10002493-1779030000-1779044400@cocnoordoostbrabant.nl
SUMMARY:De Zondagmiddag Borrel
DESCRIPTION:Deze editie is op een andere datum ivm Pinksteren \nIedere vierde zondagmiddag\, bijeenkomst voor LHBTI’ers. Check ook de Zondagmiddagsalon-Facebook-pagina.
URL:https://cocnoordoostbrabant.nl/event/de-zondagmiddag-borrel/
LOCATION:De Knillispoort\, Korte Waterstraat 15\, 's-Hertogenbosch
CATEGORIES:'s-Hertogenbosch,Café & Borrel,Sociaal
ATTACH;FMTTYPE=image/png:https://cocnoordoostbrabant.nl/wordpress/wp-content/uploads/2022/12/ZMB-logo.png
ORGANIZER;CN="COC Noordoost-Brabant":MAILTO:info@cocnoordoostbrabant.nl
GEO:51.6894883;5.3054119
X-APPLE-STRUCTURED-LOCATION;VALUE=URI;X-ADDRESS=De Knillispoort Korte Waterstraat 15 's-Hertogenbosch;X-APPLE-RADIUS=500;X-TITLE=Korte Waterstraat 15:geo:5.3054119,51.6894883
END:VEVENT
BEGIN:VEVENT
DTSTART;TZID=Europe/Amsterdam:20260628T150000
DTEND;TZID=Europe/Amsterdam:20260628T190000
DTSTAMP:20260423T084406
CREATED:20221204T205519Z
LAST-MODIFIED:20251229T193037Z
UID:10002494-1782658800-1782673200@cocnoordoostbrabant.nl
SUMMARY:De Zondagmiddag Borrel
DESCRIPTION:Iedere vierde zondagmiddag\, bijeenkomst voor LHBTI’ers. Check ook de Zondagmiddagsalon-Facebook-pagina.
URL:https://cocnoordoostbrabant.nl/event/de-zondagmiddag-borrel-4/2026-06-28/
LOCATION:De Knillispoort\, Korte Waterstraat 15\, 's-Hertogenbosch
CATEGORIES:'s-Hertogenbosch,Café & Borrel,Sociaal
ATTACH;FMTTYPE=image/png:https://cocnoordoostbrabant.nl/wordpress/wp-content/uploads/2022/12/ZMB-logo.png
ORGANIZER;CN="COC Noordoost-Brabant":MAILTO:info@cocnoordoostbrabant.nl
GEO:51.6894883;5.3054119
X-APPLE-STRUCTURED-LOCATION;VALUE=URI;X-ADDRESS=De Knillispoort Korte Waterstraat 15 's-Hertogenbosch;X-APPLE-RADIUS=500;X-TITLE=Korte Waterstraat 15:geo:5.3054119,51.6894883
END:VEVENT
BEGIN:VEVENT
DTSTART;TZID=Europe/Amsterdam:20260705T160000
DTEND;TZID=Europe/Amsterdam:20260705T180000
DTSTAMP:20260423T084406
CREATED:20251006T144012Z
LAST-MODIFIED:20251006T144118Z
UID:10002362-1783267200-1783274400@cocnoordoostbrabant.nl
SUMMARY:Borrel Roze Stadsdorp Den Bosch
DESCRIPTION:De maandelijkse borrel voor 50-plussers is in de Knillispoort\, Korte Waterstraat 15. \nIedereen is welkom\, je hoeft je niet aan te melden. Vind je het een beetje spannend en/of kom je voor het eerst? Laat het even weten aan de gastpersonen bij binnenkomst\, deze zijn herkenbaar aan een naamsticker. \n  \n 
URL:https://cocnoordoostbrabant.nl/event/borrel-roze-stadsdorp-den-bosch-4-2/2026-07-05/
LOCATION:De Knillispoort\, Korte Waterstraat 15\, 's-Hertogenbosch
CATEGORIES:'s-Hertogenbosch,50+,Café & Borrel
ATTACH;FMTTYPE=image/png:https://cocnoordoostbrabant.nl/wordpress/wp-content/uploads/2025/08/Roze-Stadsdorp-Header-PC-1532x300px-scaled.png
ORGANIZER;CN="Roze Stadsdorp Den Bosch":MAILTO:info@rozestadsdorpdenbosch.nl
GEO:51.6894883;5.3054119
X-APPLE-STRUCTURED-LOCATION;VALUE=URI;X-ADDRESS=De Knillispoort Korte Waterstraat 15 's-Hertogenbosch;X-APPLE-RADIUS=500;X-TITLE=Korte Waterstraat 15:geo:5.3054119,51.6894883
END:VEVENT
BEGIN:VEVENT
DTSTART;TZID=Europe/Amsterdam:20260726T150000
DTEND;TZID=Europe/Amsterdam:20260726T190000
DTSTAMP:20260423T084406
CREATED:20221204T205519Z
LAST-MODIFIED:20251229T193037Z
UID:10002495-1785078000-1785092400@cocnoordoostbrabant.nl
SUMMARY:De Zondagmiddag Borrel
DESCRIPTION:Iedere vierde zondagmiddag\, bijeenkomst voor LHBTI’ers. Check ook de Zondagmiddagsalon-Facebook-pagina.
URL:https://cocnoordoostbrabant.nl/event/de-zondagmiddag-borrel-4/2026-07-26/
LOCATION:De Knillispoort\, Korte Waterstraat 15\, 's-Hertogenbosch
CATEGORIES:'s-Hertogenbosch,Café & Borrel,Sociaal
ATTACH;FMTTYPE=image/png:https://cocnoordoostbrabant.nl/wordpress/wp-content/uploads/2022/12/ZMB-logo.png
ORGANIZER;CN="COC Noordoost-Brabant":MAILTO:info@cocnoordoostbrabant.nl
GEO:51.6894883;5.3054119
X-APPLE-STRUCTURED-LOCATION;VALUE=URI;X-ADDRESS=De Knillispoort Korte Waterstraat 15 's-Hertogenbosch;X-APPLE-RADIUS=500;X-TITLE=Korte Waterstraat 15:geo:5.3054119,51.6894883
END:VEVENT
BEGIN:VEVENT
DTSTART;TZID=Europe/Amsterdam:20260823T150000
DTEND;TZID=Europe/Amsterdam:20260823T190000
DTSTAMP:20260423T084406
CREATED:20221204T205519Z
LAST-MODIFIED:20251229T193037Z
UID:10002496-1787497200-1787511600@cocnoordoostbrabant.nl
SUMMARY:De Zondagmiddag Borrel
DESCRIPTION:Iedere vierde zondagmiddag\, bijeenkomst voor LHBTI’ers. Check ook de Zondagmiddagsalon-Facebook-pagina.
URL:https://cocnoordoostbrabant.nl/event/de-zondagmiddag-borrel-4/2026-08-23/
LOCATION:De Knillispoort\, Korte Waterstraat 15\, 's-Hertogenbosch
CATEGORIES:'s-Hertogenbosch,Café & Borrel,Sociaal
ATTACH;FMTTYPE=image/png:https://cocnoordoostbrabant.nl/wordpress/wp-content/uploads/2022/12/ZMB-logo.png
ORGANIZER;CN="COC Noordoost-Brabant":MAILTO:info@cocnoordoostbrabant.nl
GEO:51.6894883;5.3054119
X-APPLE-STRUCTURED-LOCATION;VALUE=URI;X-ADDRESS=De Knillispoort Korte Waterstraat 15 's-Hertogenbosch;X-APPLE-RADIUS=500;X-TITLE=Korte Waterstraat 15:geo:5.3054119,51.6894883
END:VEVENT
BEGIN:VEVENT
DTSTART;TZID=Europe/Amsterdam:20260927T150000
DTEND;TZID=Europe/Amsterdam:20260927T190000
DTSTAMP:20260423T084406
CREATED:20221204T205519Z
LAST-MODIFIED:20251229T193037Z
UID:10002497-1790521200-1790535600@cocnoordoostbrabant.nl
SUMMARY:De Zondagmiddag Borrel
DESCRIPTION:Iedere vierde zondagmiddag\, bijeenkomst voor LHBTI’ers. Check ook de Zondagmiddagsalon-Facebook-pagina.
URL:https://cocnoordoostbrabant.nl/event/de-zondagmiddag-borrel-4/2026-09-27/
LOCATION:De Knillispoort\, Korte Waterstraat 15\, 's-Hertogenbosch
CATEGORIES:'s-Hertogenbosch,Café & Borrel,Sociaal
ATTACH;FMTTYPE=image/png:https://cocnoordoostbrabant.nl/wordpress/wp-content/uploads/2022/12/ZMB-logo.png
ORGANIZER;CN="COC Noordoost-Brabant":MAILTO:info@cocnoordoostbrabant.nl
GEO:51.6894883;5.3054119
X-APPLE-STRUCTURED-LOCATION;VALUE=URI;X-ADDRESS=De Knillispoort Korte Waterstraat 15 's-Hertogenbosch;X-APPLE-RADIUS=500;X-TITLE=Korte Waterstraat 15:geo:5.3054119,51.6894883
END:VEVENT
BEGIN:VEVENT
DTSTART;TZID=Europe/Amsterdam:20261025T150000
DTEND;TZID=Europe/Amsterdam:20261025T190000
DTSTAMP:20260423T084406
CREATED:20221204T205519Z
LAST-MODIFIED:20251229T193037Z
UID:10002498-1792940400-1792954800@cocnoordoostbrabant.nl
SUMMARY:De Zondagmiddag Borrel
DESCRIPTION:Iedere vierde zondagmiddag\, bijeenkomst voor LHBTI’ers. Check ook de Zondagmiddagsalon-Facebook-pagina.
URL:https://cocnoordoostbrabant.nl/event/de-zondagmiddag-borrel-4/2026-10-25/
LOCATION:De Knillispoort\, Korte Waterstraat 15\, 's-Hertogenbosch
CATEGORIES:'s-Hertogenbosch,Café & Borrel,Sociaal
ATTACH;FMTTYPE=image/png:https://cocnoordoostbrabant.nl/wordpress/wp-content/uploads/2022/12/ZMB-logo.png
ORGANIZER;CN="COC Noordoost-Brabant":MAILTO:info@cocnoordoostbrabant.nl
GEO:51.6894883;5.3054119
X-APPLE-STRUCTURED-LOCATION;VALUE=URI;X-ADDRESS=De Knillispoort Korte Waterstraat 15 's-Hertogenbosch;X-APPLE-RADIUS=500;X-TITLE=Korte Waterstraat 15:geo:5.3054119,51.6894883
END:VEVENT
BEGIN:VEVENT
DTSTART;TZID=Europe/Amsterdam:20261122T150000
DTEND;TZID=Europe/Amsterdam:20261122T190000
DTSTAMP:20260423T084406
CREATED:20221204T205519Z
LAST-MODIFIED:20251229T193037Z
UID:10002499-1795359600-1795374000@cocnoordoostbrabant.nl
SUMMARY:De Zondagmiddag Borrel
DESCRIPTION:Iedere vierde zondagmiddag\, bijeenkomst voor LHBTI’ers. Check ook de Zondagmiddagsalon-Facebook-pagina.
URL:https://cocnoordoostbrabant.nl/event/de-zondagmiddag-borrel-4/2026-11-22/
LOCATION:De Knillispoort\, Korte Waterstraat 15\, 's-Hertogenbosch
CATEGORIES:'s-Hertogenbosch,Café & Borrel,Sociaal
ATTACH;FMTTYPE=image/png:https://cocnoordoostbrabant.nl/wordpress/wp-content/uploads/2022/12/ZMB-logo.png
ORGANIZER;CN="COC Noordoost-Brabant":MAILTO:info@cocnoordoostbrabant.nl
GEO:51.6894883;5.3054119
X-APPLE-STRUCTURED-LOCATION;VALUE=URI;X-ADDRESS=De Knillispoort Korte Waterstraat 15 's-Hertogenbosch;X-APPLE-RADIUS=500;X-TITLE=Korte Waterstraat 15:geo:5.3054119,51.6894883
END:VEVENT
BEGIN:VEVENT
DTSTART;TZID=Europe/Amsterdam:20261227T150000
DTEND;TZID=Europe/Amsterdam:20261227T190000
DTSTAMP:20260423T084406
CREATED:20221204T205519Z
LAST-MODIFIED:20251229T193037Z
UID:10002500-1798383600-1798398000@cocnoordoostbrabant.nl
SUMMARY:De Zondagmiddag Borrel
DESCRIPTION:Iedere vierde zondagmiddag\, bijeenkomst voor LHBTI’ers. Check ook de Zondagmiddagsalon-Facebook-pagina.
URL:https://cocnoordoostbrabant.nl/event/de-zondagmiddag-borrel-4/2026-12-27/
LOCATION:De Knillispoort\, Korte Waterstraat 15\, 's-Hertogenbosch
CATEGORIES:'s-Hertogenbosch,Café & Borrel,Sociaal
ATTACH;FMTTYPE=image/png:https://cocnoordoostbrabant.nl/wordpress/wp-content/uploads/2022/12/ZMB-logo.png
ORGANIZER;CN="COC Noordoost-Brabant":MAILTO:info@cocnoordoostbrabant.nl
GEO:51.6894883;5.3054119
X-APPLE-STRUCTURED-LOCATION;VALUE=URI;X-ADDRESS=De Knillispoort Korte Waterstraat 15 's-Hertogenbosch;X-APPLE-RADIUS=500;X-TITLE=Korte Waterstraat 15:geo:5.3054119,51.6894883
END:VEVENT
END:VCALENDAR