BEGIN:VCALENDAR
VERSION:2.0
PRODID:-//COC Noordoost-Brabant - ECPv6.15.18//NONSGML v1.0//EN
CALSCALE:GREGORIAN
METHOD:PUBLISH
X-WR-CALNAME:COC Noordoost-Brabant
X-ORIGINAL-URL:https://cocnoordoostbrabant.nl
X-WR-CALDESC:Evenementen voor COC Noordoost-Brabant
REFRESH-INTERVAL;VALUE=DURATION:PT1H
X-Robots-Tag:noindex
X-PUBLISHED-TTL:PT1H
BEGIN:VTIMEZONE
TZID:Europe/Amsterdam
BEGIN:DAYLIGHT
TZOFFSETFROM:+0100
TZOFFSETTO:+0200
TZNAME:CEST
DTSTART:20290325T010000
END:DAYLIGHT
BEGIN:STANDARD
TZOFFSETFROM:+0200
TZOFFSETTO:+0100
TZNAME:CET
DTSTART:20291028T010000
END:STANDARD
BEGIN:DAYLIGHT
TZOFFSETFROM:+0100
TZOFFSETTO:+0200
TZNAME:CEST
DTSTART:20300331T010000
END:DAYLIGHT
BEGIN:STANDARD
TZOFFSETFROM:+0200
TZOFFSETTO:+0100
TZNAME:CET
DTSTART:20301027T010000
END:STANDARD
BEGIN:DAYLIGHT
TZOFFSETFROM:+0100
TZOFFSETTO:+0200
TZNAME:CEST
DTSTART:20310330T010000
END:DAYLIGHT
BEGIN:STANDARD
TZOFFSETFROM:+0200
TZOFFSETTO:+0100
TZNAME:CET
DTSTART:20311026T010000
END:STANDARD
END:VTIMEZONE
BEGIN:VEVENT
DTSTART;TZID=Europe/Amsterdam:20300124T200000
DTEND;TZID=Europe/Amsterdam:20300124T213000
DTSTAMP:20260420T205004
CREATED:20241106T210453Z
LAST-MODIFIED:20241213T145101Z
UID:10001631-1895515200-1895520600@cocnoordoostbrabant.nl
SUMMARY:Volleybal
DESCRIPTION:Elke donderdag avond volleyballen. Voor iedereen\, zowel beginners als gevorderde .
URL:https://cocnoordoostbrabant.nl/event/volleybal/2030-01-24/
LOCATION:‘s-Hertogenbosch\, 's-Hertogenbosch
CATEGORIES:Sport
ATTACH;FMTTYPE=image/jpeg:https://cocnoordoostbrabant.nl/wordpress/wp-content/uploads/2024/11/IMG_8465.jpeg
ORGANIZER;CN="Regenboogsportclub Zoete Lieve Gerritje":MAILTO:info@zlgdenbosch.nl
END:VEVENT
BEGIN:VEVENT
DTSTART;TZID=Europe/Amsterdam:20300126T093000
DTEND;TZID=Europe/Amsterdam:20300126T103000
DTSTAMP:20260420T205005
CREATED:20250216T121535Z
LAST-MODIFIED:20250216T121535Z
UID:10002044-1895650200-1895653800@cocnoordoostbrabant.nl
SUMMARY:Hardlopen met ZLG
DESCRIPTION:Elke zaterdagochtend om 9.30 uur loopt onze hardloopgroep het mooie rondje om de IJzeren Vrouw in het Prins Hendrikpark in Den Bosch. Iedereen is welkom! Of je nu al jaren hardloopt of een echte beginner bent. \nAfstand en tempo\nJe loopt op eigen tempo een afstand naar keuze. Een\, twee\, drie of vier rondjes\, dat bepaal je helemaal zelf. Een rondje is ongeveer 1\,8 km. Na afloop komen we weer samen voor koffie en iets lekkers bij het gezellige theehuis in het park. \nOok een keer meelopen?\nGezellig! Kijk op deze site voor de contactmogelijkheden.
URL:https://cocnoordoostbrabant.nl/event/hardlopen-met-zlg/2030-01-26/
LOCATION:IJzerenvrouw\, 's-Hertogenbosch
CATEGORIES:Sport
ATTACH;FMTTYPE=image/jpeg:https://cocnoordoostbrabant.nl/wordpress/wp-content/uploads/2025/02/IMG_8465-1.jpeg
ORGANIZER;CN="Regenboogsportclub Zoete Lieve Gerritje":MAILTO:info@zlgdenbosch.nl
END:VEVENT
BEGIN:VEVENT
DTSTART;TZID=Europe/Amsterdam:20300131T200000
DTEND;TZID=Europe/Amsterdam:20300131T213000
DTSTAMP:20260420T205005
CREATED:20241106T210453Z
LAST-MODIFIED:20241213T145101Z
UID:10001632-1896120000-1896125400@cocnoordoostbrabant.nl
SUMMARY:Volleybal
DESCRIPTION:Elke donderdag avond volleyballen. Voor iedereen\, zowel beginners als gevorderde .
URL:https://cocnoordoostbrabant.nl/event/volleybal/2030-01-31/
LOCATION:‘s-Hertogenbosch\, 's-Hertogenbosch
CATEGORIES:Sport
ATTACH;FMTTYPE=image/jpeg:https://cocnoordoostbrabant.nl/wordpress/wp-content/uploads/2024/11/IMG_8465.jpeg
ORGANIZER;CN="Regenboogsportclub Zoete Lieve Gerritje":MAILTO:info@zlgdenbosch.nl
END:VEVENT
BEGIN:VEVENT
DTSTART;TZID=Europe/Amsterdam:20300202T093000
DTEND;TZID=Europe/Amsterdam:20300202T103000
DTSTAMP:20260420T205005
CREATED:20250216T121535Z
LAST-MODIFIED:20250216T121535Z
UID:10002045-1896255000-1896258600@cocnoordoostbrabant.nl
SUMMARY:Hardlopen met ZLG
DESCRIPTION:Elke zaterdagochtend om 9.30 uur loopt onze hardloopgroep het mooie rondje om de IJzeren Vrouw in het Prins Hendrikpark in Den Bosch. Iedereen is welkom! Of je nu al jaren hardloopt of een echte beginner bent. \nAfstand en tempo\nJe loopt op eigen tempo een afstand naar keuze. Een\, twee\, drie of vier rondjes\, dat bepaal je helemaal zelf. Een rondje is ongeveer 1\,8 km. Na afloop komen we weer samen voor koffie en iets lekkers bij het gezellige theehuis in het park. \nOok een keer meelopen?\nGezellig! Kijk op deze site voor de contactmogelijkheden.
URL:https://cocnoordoostbrabant.nl/event/hardlopen-met-zlg/2030-02-02/
LOCATION:IJzerenvrouw\, 's-Hertogenbosch
CATEGORIES:Sport
ATTACH;FMTTYPE=image/jpeg:https://cocnoordoostbrabant.nl/wordpress/wp-content/uploads/2025/02/IMG_8465-1.jpeg
ORGANIZER;CN="Regenboogsportclub Zoete Lieve Gerritje":MAILTO:info@zlgdenbosch.nl
END:VEVENT
BEGIN:VEVENT
DTSTART;TZID=Europe/Amsterdam:20300207T200000
DTEND;TZID=Europe/Amsterdam:20300207T213000
DTSTAMP:20260420T205005
CREATED:20241106T210453Z
LAST-MODIFIED:20241213T145101Z
UID:10001633-1896724800-1896730200@cocnoordoostbrabant.nl
SUMMARY:Volleybal
DESCRIPTION:Elke donderdag avond volleyballen. Voor iedereen\, zowel beginners als gevorderde .
URL:https://cocnoordoostbrabant.nl/event/volleybal/2030-02-07/
LOCATION:‘s-Hertogenbosch\, 's-Hertogenbosch
CATEGORIES:Sport
ATTACH;FMTTYPE=image/jpeg:https://cocnoordoostbrabant.nl/wordpress/wp-content/uploads/2024/11/IMG_8465.jpeg
ORGANIZER;CN="Regenboogsportclub Zoete Lieve Gerritje":MAILTO:info@zlgdenbosch.nl
END:VEVENT
BEGIN:VEVENT
DTSTART;TZID=Europe/Amsterdam:20300209T093000
DTEND;TZID=Europe/Amsterdam:20300209T103000
DTSTAMP:20260420T205005
CREATED:20250216T121535Z
LAST-MODIFIED:20250216T121535Z
UID:10002046-1896859800-1896863400@cocnoordoostbrabant.nl
SUMMARY:Hardlopen met ZLG
DESCRIPTION:Elke zaterdagochtend om 9.30 uur loopt onze hardloopgroep het mooie rondje om de IJzeren Vrouw in het Prins Hendrikpark in Den Bosch. Iedereen is welkom! Of je nu al jaren hardloopt of een echte beginner bent. \nAfstand en tempo\nJe loopt op eigen tempo een afstand naar keuze. Een\, twee\, drie of vier rondjes\, dat bepaal je helemaal zelf. Een rondje is ongeveer 1\,8 km. Na afloop komen we weer samen voor koffie en iets lekkers bij het gezellige theehuis in het park. \nOok een keer meelopen?\nGezellig! Kijk op deze site voor de contactmogelijkheden.
URL:https://cocnoordoostbrabant.nl/event/hardlopen-met-zlg/2030-02-09/
LOCATION:IJzerenvrouw\, 's-Hertogenbosch
CATEGORIES:Sport
ATTACH;FMTTYPE=image/jpeg:https://cocnoordoostbrabant.nl/wordpress/wp-content/uploads/2025/02/IMG_8465-1.jpeg
ORGANIZER;CN="Regenboogsportclub Zoete Lieve Gerritje":MAILTO:info@zlgdenbosch.nl
END:VEVENT
BEGIN:VEVENT
DTSTART;TZID=Europe/Amsterdam:20300214T200000
DTEND;TZID=Europe/Amsterdam:20300214T213000
DTSTAMP:20260420T205005
CREATED:20241106T210453Z
LAST-MODIFIED:20241213T145101Z
UID:10001634-1897329600-1897335000@cocnoordoostbrabant.nl
SUMMARY:Volleybal
DESCRIPTION:Elke donderdag avond volleyballen. Voor iedereen\, zowel beginners als gevorderde .
URL:https://cocnoordoostbrabant.nl/event/volleybal/2030-02-14/
LOCATION:‘s-Hertogenbosch\, 's-Hertogenbosch
CATEGORIES:Sport
ATTACH;FMTTYPE=image/jpeg:https://cocnoordoostbrabant.nl/wordpress/wp-content/uploads/2024/11/IMG_8465.jpeg
ORGANIZER;CN="Regenboogsportclub Zoete Lieve Gerritje":MAILTO:info@zlgdenbosch.nl
END:VEVENT
BEGIN:VEVENT
DTSTART;TZID=Europe/Amsterdam:20300216T093000
DTEND;TZID=Europe/Amsterdam:20300216T103000
DTSTAMP:20260420T205005
CREATED:20250216T121535Z
LAST-MODIFIED:20250216T121535Z
UID:10002047-1897464600-1897468200@cocnoordoostbrabant.nl
SUMMARY:Hardlopen met ZLG
DESCRIPTION:Elke zaterdagochtend om 9.30 uur loopt onze hardloopgroep het mooie rondje om de IJzeren Vrouw in het Prins Hendrikpark in Den Bosch. Iedereen is welkom! Of je nu al jaren hardloopt of een echte beginner bent. \nAfstand en tempo\nJe loopt op eigen tempo een afstand naar keuze. Een\, twee\, drie of vier rondjes\, dat bepaal je helemaal zelf. Een rondje is ongeveer 1\,8 km. Na afloop komen we weer samen voor koffie en iets lekkers bij het gezellige theehuis in het park. \nOok een keer meelopen?\nGezellig! Kijk op deze site voor de contactmogelijkheden.
URL:https://cocnoordoostbrabant.nl/event/hardlopen-met-zlg/2030-02-16/
LOCATION:IJzerenvrouw\, 's-Hertogenbosch
CATEGORIES:Sport
ATTACH;FMTTYPE=image/jpeg:https://cocnoordoostbrabant.nl/wordpress/wp-content/uploads/2025/02/IMG_8465-1.jpeg
ORGANIZER;CN="Regenboogsportclub Zoete Lieve Gerritje":MAILTO:info@zlgdenbosch.nl
END:VEVENT
BEGIN:VEVENT
DTSTART;TZID=Europe/Amsterdam:20300221T200000
DTEND;TZID=Europe/Amsterdam:20300221T213000
DTSTAMP:20260420T205005
CREATED:20241106T210453Z
LAST-MODIFIED:20241213T145101Z
UID:10002048-1897934400-1897939800@cocnoordoostbrabant.nl
SUMMARY:Volleybal
DESCRIPTION:Elke donderdag avond volleyballen. Voor iedereen\, zowel beginners als gevorderde .
URL:https://cocnoordoostbrabant.nl/event/volleybal/2030-02-21/
LOCATION:‘s-Hertogenbosch\, 's-Hertogenbosch
CATEGORIES:Sport
ATTACH;FMTTYPE=image/jpeg:https://cocnoordoostbrabant.nl/wordpress/wp-content/uploads/2024/11/IMG_8465.jpeg
ORGANIZER;CN="Regenboogsportclub Zoete Lieve Gerritje":MAILTO:info@zlgdenbosch.nl
END:VEVENT
BEGIN:VEVENT
DTSTART;TZID=Europe/Amsterdam:20300223T093000
DTEND;TZID=Europe/Amsterdam:20300223T103000
DTSTAMP:20260420T205005
CREATED:20250216T121535Z
LAST-MODIFIED:20250216T121535Z
UID:10002129-1898069400-1898073000@cocnoordoostbrabant.nl
SUMMARY:Hardlopen met ZLG
DESCRIPTION:Elke zaterdagochtend om 9.30 uur loopt onze hardloopgroep het mooie rondje om de IJzeren Vrouw in het Prins Hendrikpark in Den Bosch. Iedereen is welkom! Of je nu al jaren hardloopt of een echte beginner bent. \nAfstand en tempo\nJe loopt op eigen tempo een afstand naar keuze. Een\, twee\, drie of vier rondjes\, dat bepaal je helemaal zelf. Een rondje is ongeveer 1\,8 km. Na afloop komen we weer samen voor koffie en iets lekkers bij het gezellige theehuis in het park. \nOok een keer meelopen?\nGezellig! Kijk op deze site voor de contactmogelijkheden.
URL:https://cocnoordoostbrabant.nl/event/hardlopen-met-zlg/2030-02-23/
LOCATION:IJzerenvrouw\, 's-Hertogenbosch
CATEGORIES:Sport
ATTACH;FMTTYPE=image/jpeg:https://cocnoordoostbrabant.nl/wordpress/wp-content/uploads/2025/02/IMG_8465-1.jpeg
ORGANIZER;CN="Regenboogsportclub Zoete Lieve Gerritje":MAILTO:info@zlgdenbosch.nl
END:VEVENT
BEGIN:VEVENT
DTSTART;TZID=Europe/Amsterdam:20300228T200000
DTEND;TZID=Europe/Amsterdam:20300228T213000
DTSTAMP:20260420T205005
CREATED:20241106T210453Z
LAST-MODIFIED:20241213T145101Z
UID:10002049-1898539200-1898544600@cocnoordoostbrabant.nl
SUMMARY:Volleybal
DESCRIPTION:Elke donderdag avond volleyballen. Voor iedereen\, zowel beginners als gevorderde .
URL:https://cocnoordoostbrabant.nl/event/volleybal/2030-02-28/
LOCATION:‘s-Hertogenbosch\, 's-Hertogenbosch
CATEGORIES:Sport
ATTACH;FMTTYPE=image/jpeg:https://cocnoordoostbrabant.nl/wordpress/wp-content/uploads/2024/11/IMG_8465.jpeg
ORGANIZER;CN="Regenboogsportclub Zoete Lieve Gerritje":MAILTO:info@zlgdenbosch.nl
END:VEVENT
BEGIN:VEVENT
DTSTART;TZID=Europe/Amsterdam:20300302T093000
DTEND;TZID=Europe/Amsterdam:20300302T103000
DTSTAMP:20260420T205005
CREATED:20250216T121535Z
LAST-MODIFIED:20250216T121535Z
UID:10002130-1898674200-1898677800@cocnoordoostbrabant.nl
SUMMARY:Hardlopen met ZLG
DESCRIPTION:Elke zaterdagochtend om 9.30 uur loopt onze hardloopgroep het mooie rondje om de IJzeren Vrouw in het Prins Hendrikpark in Den Bosch. Iedereen is welkom! Of je nu al jaren hardloopt of een echte beginner bent. \nAfstand en tempo\nJe loopt op eigen tempo een afstand naar keuze. Een\, twee\, drie of vier rondjes\, dat bepaal je helemaal zelf. Een rondje is ongeveer 1\,8 km. Na afloop komen we weer samen voor koffie en iets lekkers bij het gezellige theehuis in het park. \nOok een keer meelopen?\nGezellig! Kijk op deze site voor de contactmogelijkheden.
URL:https://cocnoordoostbrabant.nl/event/hardlopen-met-zlg/2030-03-02/
LOCATION:IJzerenvrouw\, 's-Hertogenbosch
CATEGORIES:Sport
ATTACH;FMTTYPE=image/jpeg:https://cocnoordoostbrabant.nl/wordpress/wp-content/uploads/2025/02/IMG_8465-1.jpeg
ORGANIZER;CN="Regenboogsportclub Zoete Lieve Gerritje":MAILTO:info@zlgdenbosch.nl
END:VEVENT
BEGIN:VEVENT
DTSTART;TZID=Europe/Amsterdam:20300307T200000
DTEND;TZID=Europe/Amsterdam:20300307T213000
DTSTAMP:20260420T205005
CREATED:20241106T210453Z
LAST-MODIFIED:20241213T145101Z
UID:10002051-1899144000-1899149400@cocnoordoostbrabant.nl
SUMMARY:Volleybal
DESCRIPTION:Elke donderdag avond volleyballen. Voor iedereen\, zowel beginners als gevorderde .
URL:https://cocnoordoostbrabant.nl/event/volleybal/2030-03-07/
LOCATION:‘s-Hertogenbosch\, 's-Hertogenbosch
CATEGORIES:Sport
ATTACH;FMTTYPE=image/jpeg:https://cocnoordoostbrabant.nl/wordpress/wp-content/uploads/2024/11/IMG_8465.jpeg
ORGANIZER;CN="Regenboogsportclub Zoete Lieve Gerritje":MAILTO:info@zlgdenbosch.nl
END:VEVENT
BEGIN:VEVENT
DTSTART;TZID=Europe/Amsterdam:20300309T093000
DTEND;TZID=Europe/Amsterdam:20300309T103000
DTSTAMP:20260420T205005
CREATED:20250216T121535Z
LAST-MODIFIED:20250216T121535Z
UID:10002131-1899279000-1899282600@cocnoordoostbrabant.nl
SUMMARY:Hardlopen met ZLG
DESCRIPTION:Elke zaterdagochtend om 9.30 uur loopt onze hardloopgroep het mooie rondje om de IJzeren Vrouw in het Prins Hendrikpark in Den Bosch. Iedereen is welkom! Of je nu al jaren hardloopt of een echte beginner bent. \nAfstand en tempo\nJe loopt op eigen tempo een afstand naar keuze. Een\, twee\, drie of vier rondjes\, dat bepaal je helemaal zelf. Een rondje is ongeveer 1\,8 km. Na afloop komen we weer samen voor koffie en iets lekkers bij het gezellige theehuis in het park. \nOok een keer meelopen?\nGezellig! Kijk op deze site voor de contactmogelijkheden.
URL:https://cocnoordoostbrabant.nl/event/hardlopen-met-zlg/2030-03-09/
LOCATION:IJzerenvrouw\, 's-Hertogenbosch
CATEGORIES:Sport
ATTACH;FMTTYPE=image/jpeg:https://cocnoordoostbrabant.nl/wordpress/wp-content/uploads/2025/02/IMG_8465-1.jpeg
ORGANIZER;CN="Regenboogsportclub Zoete Lieve Gerritje":MAILTO:info@zlgdenbosch.nl
END:VEVENT
BEGIN:VEVENT
DTSTART;TZID=Europe/Amsterdam:20300314T200000
DTEND;TZID=Europe/Amsterdam:20300314T213000
DTSTAMP:20260420T205005
CREATED:20241106T210453Z
LAST-MODIFIED:20241213T145101Z
UID:10002054-1899748800-1899754200@cocnoordoostbrabant.nl
SUMMARY:Volleybal
DESCRIPTION:Elke donderdag avond volleyballen. Voor iedereen\, zowel beginners als gevorderde .
URL:https://cocnoordoostbrabant.nl/event/volleybal/2030-03-14/
LOCATION:‘s-Hertogenbosch\, 's-Hertogenbosch
CATEGORIES:Sport
ATTACH;FMTTYPE=image/jpeg:https://cocnoordoostbrabant.nl/wordpress/wp-content/uploads/2024/11/IMG_8465.jpeg
ORGANIZER;CN="Regenboogsportclub Zoete Lieve Gerritje":MAILTO:info@zlgdenbosch.nl
END:VEVENT
BEGIN:VEVENT
DTSTART;TZID=Europe/Amsterdam:20300316T093000
DTEND;TZID=Europe/Amsterdam:20300316T103000
DTSTAMP:20260420T205005
CREATED:20250216T121535Z
LAST-MODIFIED:20250216T121535Z
UID:10002132-1899883800-1899887400@cocnoordoostbrabant.nl
SUMMARY:Hardlopen met ZLG
DESCRIPTION:Elke zaterdagochtend om 9.30 uur loopt onze hardloopgroep het mooie rondje om de IJzeren Vrouw in het Prins Hendrikpark in Den Bosch. Iedereen is welkom! Of je nu al jaren hardloopt of een echte beginner bent. \nAfstand en tempo\nJe loopt op eigen tempo een afstand naar keuze. Een\, twee\, drie of vier rondjes\, dat bepaal je helemaal zelf. Een rondje is ongeveer 1\,8 km. Na afloop komen we weer samen voor koffie en iets lekkers bij het gezellige theehuis in het park. \nOok een keer meelopen?\nGezellig! Kijk op deze site voor de contactmogelijkheden.
URL:https://cocnoordoostbrabant.nl/event/hardlopen-met-zlg/2030-03-16/
LOCATION:IJzerenvrouw\, 's-Hertogenbosch
CATEGORIES:Sport
ATTACH;FMTTYPE=image/jpeg:https://cocnoordoostbrabant.nl/wordpress/wp-content/uploads/2025/02/IMG_8465-1.jpeg
ORGANIZER;CN="Regenboogsportclub Zoete Lieve Gerritje":MAILTO:info@zlgdenbosch.nl
END:VEVENT
BEGIN:VEVENT
DTSTART;TZID=Europe/Amsterdam:20300321T200000
DTEND;TZID=Europe/Amsterdam:20300321T213000
DTSTAMP:20260420T205005
CREATED:20241106T210453Z
LAST-MODIFIED:20241213T145101Z
UID:10002085-1900353600-1900359000@cocnoordoostbrabant.nl
SUMMARY:Volleybal
DESCRIPTION:Elke donderdag avond volleyballen. Voor iedereen\, zowel beginners als gevorderde .
URL:https://cocnoordoostbrabant.nl/event/volleybal/2030-03-21/
LOCATION:‘s-Hertogenbosch\, 's-Hertogenbosch
CATEGORIES:Sport
ATTACH;FMTTYPE=image/jpeg:https://cocnoordoostbrabant.nl/wordpress/wp-content/uploads/2024/11/IMG_8465.jpeg
ORGANIZER;CN="Regenboogsportclub Zoete Lieve Gerritje":MAILTO:info@zlgdenbosch.nl
END:VEVENT
BEGIN:VEVENT
DTSTART;TZID=Europe/Amsterdam:20300323T093000
DTEND;TZID=Europe/Amsterdam:20300323T103000
DTSTAMP:20260420T205005
CREATED:20250216T121535Z
LAST-MODIFIED:20250216T121535Z
UID:10002133-1900488600-1900492200@cocnoordoostbrabant.nl
SUMMARY:Hardlopen met ZLG
DESCRIPTION:Elke zaterdagochtend om 9.30 uur loopt onze hardloopgroep het mooie rondje om de IJzeren Vrouw in het Prins Hendrikpark in Den Bosch. Iedereen is welkom! Of je nu al jaren hardloopt of een echte beginner bent. \nAfstand en tempo\nJe loopt op eigen tempo een afstand naar keuze. Een\, twee\, drie of vier rondjes\, dat bepaal je helemaal zelf. Een rondje is ongeveer 1\,8 km. Na afloop komen we weer samen voor koffie en iets lekkers bij het gezellige theehuis in het park. \nOok een keer meelopen?\nGezellig! Kijk op deze site voor de contactmogelijkheden.
URL:https://cocnoordoostbrabant.nl/event/hardlopen-met-zlg/2030-03-23/
LOCATION:IJzerenvrouw\, 's-Hertogenbosch
CATEGORIES:Sport
ATTACH;FMTTYPE=image/jpeg:https://cocnoordoostbrabant.nl/wordpress/wp-content/uploads/2025/02/IMG_8465-1.jpeg
ORGANIZER;CN="Regenboogsportclub Zoete Lieve Gerritje":MAILTO:info@zlgdenbosch.nl
END:VEVENT
BEGIN:VEVENT
DTSTART;TZID=Europe/Amsterdam:20300328T200000
DTEND;TZID=Europe/Amsterdam:20300328T213000
DTSTAMP:20260420T205005
CREATED:20241106T210453Z
LAST-MODIFIED:20241213T145101Z
UID:10002086-1900958400-1900963800@cocnoordoostbrabant.nl
SUMMARY:Volleybal
DESCRIPTION:Elke donderdag avond volleyballen. Voor iedereen\, zowel beginners als gevorderde .
URL:https://cocnoordoostbrabant.nl/event/volleybal/2030-03-28/
LOCATION:‘s-Hertogenbosch\, 's-Hertogenbosch
CATEGORIES:Sport
ATTACH;FMTTYPE=image/jpeg:https://cocnoordoostbrabant.nl/wordpress/wp-content/uploads/2024/11/IMG_8465.jpeg
ORGANIZER;CN="Regenboogsportclub Zoete Lieve Gerritje":MAILTO:info@zlgdenbosch.nl
END:VEVENT
BEGIN:VEVENT
DTSTART;TZID=Europe/Amsterdam:20300330T093000
DTEND;TZID=Europe/Amsterdam:20300330T103000
DTSTAMP:20260420T205005
CREATED:20250216T121535Z
LAST-MODIFIED:20250216T121535Z
UID:10002134-1901093400-1901097000@cocnoordoostbrabant.nl
SUMMARY:Hardlopen met ZLG
DESCRIPTION:Elke zaterdagochtend om 9.30 uur loopt onze hardloopgroep het mooie rondje om de IJzeren Vrouw in het Prins Hendrikpark in Den Bosch. Iedereen is welkom! Of je nu al jaren hardloopt of een echte beginner bent. \nAfstand en tempo\nJe loopt op eigen tempo een afstand naar keuze. Een\, twee\, drie of vier rondjes\, dat bepaal je helemaal zelf. Een rondje is ongeveer 1\,8 km. Na afloop komen we weer samen voor koffie en iets lekkers bij het gezellige theehuis in het park. \nOok een keer meelopen?\nGezellig! Kijk op deze site voor de contactmogelijkheden.
URL:https://cocnoordoostbrabant.nl/event/hardlopen-met-zlg/2030-03-30/
LOCATION:IJzerenvrouw\, 's-Hertogenbosch
CATEGORIES:Sport
ATTACH;FMTTYPE=image/jpeg:https://cocnoordoostbrabant.nl/wordpress/wp-content/uploads/2025/02/IMG_8465-1.jpeg
ORGANIZER;CN="Regenboogsportclub Zoete Lieve Gerritje":MAILTO:info@zlgdenbosch.nl
END:VEVENT
BEGIN:VEVENT
DTSTART;TZID=Europe/Amsterdam:20300404T200000
DTEND;TZID=Europe/Amsterdam:20300404T213000
DTSTAMP:20260420T205005
CREATED:20241106T210453Z
LAST-MODIFIED:20241213T145101Z
UID:10002090-1901563200-1901568600@cocnoordoostbrabant.nl
SUMMARY:Volleybal
DESCRIPTION:Elke donderdag avond volleyballen. Voor iedereen\, zowel beginners als gevorderde .
URL:https://cocnoordoostbrabant.nl/event/volleybal/2030-04-04/
LOCATION:‘s-Hertogenbosch\, 's-Hertogenbosch
CATEGORIES:Sport
ATTACH;FMTTYPE=image/jpeg:https://cocnoordoostbrabant.nl/wordpress/wp-content/uploads/2024/11/IMG_8465.jpeg
ORGANIZER;CN="Regenboogsportclub Zoete Lieve Gerritje":MAILTO:info@zlgdenbosch.nl
END:VEVENT
BEGIN:VEVENT
DTSTART;TZID=Europe/Amsterdam:20300406T093000
DTEND;TZID=Europe/Amsterdam:20300406T103000
DTSTAMP:20260420T205005
CREATED:20250216T121535Z
LAST-MODIFIED:20250216T121535Z
UID:10002135-1901698200-1901701800@cocnoordoostbrabant.nl
SUMMARY:Hardlopen met ZLG
DESCRIPTION:Elke zaterdagochtend om 9.30 uur loopt onze hardloopgroep het mooie rondje om de IJzeren Vrouw in het Prins Hendrikpark in Den Bosch. Iedereen is welkom! Of je nu al jaren hardloopt of een echte beginner bent. \nAfstand en tempo\nJe loopt op eigen tempo een afstand naar keuze. Een\, twee\, drie of vier rondjes\, dat bepaal je helemaal zelf. Een rondje is ongeveer 1\,8 km. Na afloop komen we weer samen voor koffie en iets lekkers bij het gezellige theehuis in het park. \nOok een keer meelopen?\nGezellig! Kijk op deze site voor de contactmogelijkheden.
URL:https://cocnoordoostbrabant.nl/event/hardlopen-met-zlg/2030-04-06/
LOCATION:IJzerenvrouw\, 's-Hertogenbosch
CATEGORIES:Sport
ATTACH;FMTTYPE=image/jpeg:https://cocnoordoostbrabant.nl/wordpress/wp-content/uploads/2025/02/IMG_8465-1.jpeg
ORGANIZER;CN="Regenboogsportclub Zoete Lieve Gerritje":MAILTO:info@zlgdenbosch.nl
END:VEVENT
BEGIN:VEVENT
DTSTART;TZID=Europe/Amsterdam:20300411T200000
DTEND;TZID=Europe/Amsterdam:20300411T213000
DTSTAMP:20260420T205005
CREATED:20241106T210453Z
LAST-MODIFIED:20241213T145101Z
UID:10002091-1902168000-1902173400@cocnoordoostbrabant.nl
SUMMARY:Volleybal
DESCRIPTION:Elke donderdag avond volleyballen. Voor iedereen\, zowel beginners als gevorderde .
URL:https://cocnoordoostbrabant.nl/event/volleybal/2030-04-11/
LOCATION:‘s-Hertogenbosch\, 's-Hertogenbosch
CATEGORIES:Sport
ATTACH;FMTTYPE=image/jpeg:https://cocnoordoostbrabant.nl/wordpress/wp-content/uploads/2024/11/IMG_8465.jpeg
ORGANIZER;CN="Regenboogsportclub Zoete Lieve Gerritje":MAILTO:info@zlgdenbosch.nl
END:VEVENT
BEGIN:VEVENT
DTSTART;TZID=Europe/Amsterdam:20300413T093000
DTEND;TZID=Europe/Amsterdam:20300413T103000
DTSTAMP:20260420T205005
CREATED:20250216T121535Z
LAST-MODIFIED:20250216T121535Z
UID:10002136-1902303000-1902306600@cocnoordoostbrabant.nl
SUMMARY:Hardlopen met ZLG
DESCRIPTION:Elke zaterdagochtend om 9.30 uur loopt onze hardloopgroep het mooie rondje om de IJzeren Vrouw in het Prins Hendrikpark in Den Bosch. Iedereen is welkom! Of je nu al jaren hardloopt of een echte beginner bent. \nAfstand en tempo\nJe loopt op eigen tempo een afstand naar keuze. Een\, twee\, drie of vier rondjes\, dat bepaal je helemaal zelf. Een rondje is ongeveer 1\,8 km. Na afloop komen we weer samen voor koffie en iets lekkers bij het gezellige theehuis in het park. \nOok een keer meelopen?\nGezellig! Kijk op deze site voor de contactmogelijkheden.
URL:https://cocnoordoostbrabant.nl/event/hardlopen-met-zlg/2030-04-13/
LOCATION:IJzerenvrouw\, 's-Hertogenbosch
CATEGORIES:Sport
ATTACH;FMTTYPE=image/jpeg:https://cocnoordoostbrabant.nl/wordpress/wp-content/uploads/2025/02/IMG_8465-1.jpeg
ORGANIZER;CN="Regenboogsportclub Zoete Lieve Gerritje":MAILTO:info@zlgdenbosch.nl
END:VEVENT
BEGIN:VEVENT
DTSTART;TZID=Europe/Amsterdam:20300418T200000
DTEND;TZID=Europe/Amsterdam:20300418T213000
DTSTAMP:20260420T205005
CREATED:20241106T210453Z
LAST-MODIFIED:20241213T145101Z
UID:10002092-1902772800-1902778200@cocnoordoostbrabant.nl
SUMMARY:Volleybal
DESCRIPTION:Elke donderdag avond volleyballen. Voor iedereen\, zowel beginners als gevorderde .
URL:https://cocnoordoostbrabant.nl/event/volleybal/2030-04-18/
LOCATION:‘s-Hertogenbosch\, 's-Hertogenbosch
CATEGORIES:Sport
ATTACH;FMTTYPE=image/jpeg:https://cocnoordoostbrabant.nl/wordpress/wp-content/uploads/2024/11/IMG_8465.jpeg
ORGANIZER;CN="Regenboogsportclub Zoete Lieve Gerritje":MAILTO:info@zlgdenbosch.nl
END:VEVENT
BEGIN:VEVENT
DTSTART;TZID=Europe/Amsterdam:20300420T093000
DTEND;TZID=Europe/Amsterdam:20300420T103000
DTSTAMP:20260420T205005
CREATED:20250216T121535Z
LAST-MODIFIED:20250216T121535Z
UID:10002137-1902907800-1902911400@cocnoordoostbrabant.nl
SUMMARY:Hardlopen met ZLG
DESCRIPTION:Elke zaterdagochtend om 9.30 uur loopt onze hardloopgroep het mooie rondje om de IJzeren Vrouw in het Prins Hendrikpark in Den Bosch. Iedereen is welkom! Of je nu al jaren hardloopt of een echte beginner bent. \nAfstand en tempo\nJe loopt op eigen tempo een afstand naar keuze. Een\, twee\, drie of vier rondjes\, dat bepaal je helemaal zelf. Een rondje is ongeveer 1\,8 km. Na afloop komen we weer samen voor koffie en iets lekkers bij het gezellige theehuis in het park. \nOok een keer meelopen?\nGezellig! Kijk op deze site voor de contactmogelijkheden.
URL:https://cocnoordoostbrabant.nl/event/hardlopen-met-zlg/2030-04-20/
LOCATION:IJzerenvrouw\, 's-Hertogenbosch
CATEGORIES:Sport
ATTACH;FMTTYPE=image/jpeg:https://cocnoordoostbrabant.nl/wordpress/wp-content/uploads/2025/02/IMG_8465-1.jpeg
ORGANIZER;CN="Regenboogsportclub Zoete Lieve Gerritje":MAILTO:info@zlgdenbosch.nl
END:VEVENT
BEGIN:VEVENT
DTSTART;TZID=Europe/Amsterdam:20300425T200000
DTEND;TZID=Europe/Amsterdam:20300425T213000
DTSTAMP:20260420T205005
CREATED:20241106T210453Z
LAST-MODIFIED:20241213T145101Z
UID:10002093-1903377600-1903383000@cocnoordoostbrabant.nl
SUMMARY:Volleybal
DESCRIPTION:Elke donderdag avond volleyballen. Voor iedereen\, zowel beginners als gevorderde .
URL:https://cocnoordoostbrabant.nl/event/volleybal/2030-04-25/
LOCATION:‘s-Hertogenbosch\, 's-Hertogenbosch
CATEGORIES:Sport
ATTACH;FMTTYPE=image/jpeg:https://cocnoordoostbrabant.nl/wordpress/wp-content/uploads/2024/11/IMG_8465.jpeg
ORGANIZER;CN="Regenboogsportclub Zoete Lieve Gerritje":MAILTO:info@zlgdenbosch.nl
END:VEVENT
BEGIN:VEVENT
DTSTART;TZID=Europe/Amsterdam:20300427T093000
DTEND;TZID=Europe/Amsterdam:20300427T103000
DTSTAMP:20260420T205005
CREATED:20250216T121535Z
LAST-MODIFIED:20250216T121535Z
UID:10002138-1903512600-1903516200@cocnoordoostbrabant.nl
SUMMARY:Hardlopen met ZLG
DESCRIPTION:Elke zaterdagochtend om 9.30 uur loopt onze hardloopgroep het mooie rondje om de IJzeren Vrouw in het Prins Hendrikpark in Den Bosch. Iedereen is welkom! Of je nu al jaren hardloopt of een echte beginner bent. \nAfstand en tempo\nJe loopt op eigen tempo een afstand naar keuze. Een\, twee\, drie of vier rondjes\, dat bepaal je helemaal zelf. Een rondje is ongeveer 1\,8 km. Na afloop komen we weer samen voor koffie en iets lekkers bij het gezellige theehuis in het park. \nOok een keer meelopen?\nGezellig! Kijk op deze site voor de contactmogelijkheden.
URL:https://cocnoordoostbrabant.nl/event/hardlopen-met-zlg/2030-04-27/
LOCATION:IJzerenvrouw\, 's-Hertogenbosch
CATEGORIES:Sport
ATTACH;FMTTYPE=image/jpeg:https://cocnoordoostbrabant.nl/wordpress/wp-content/uploads/2025/02/IMG_8465-1.jpeg
ORGANIZER;CN="Regenboogsportclub Zoete Lieve Gerritje":MAILTO:info@zlgdenbosch.nl
END:VEVENT
BEGIN:VEVENT
DTSTART;TZID=Europe/Amsterdam:20300502T200000
DTEND;TZID=Europe/Amsterdam:20300502T213000
DTSTAMP:20260420T205005
CREATED:20241106T210453Z
LAST-MODIFIED:20241213T145101Z
UID:10002094-1903982400-1903987800@cocnoordoostbrabant.nl
SUMMARY:Volleybal
DESCRIPTION:Elke donderdag avond volleyballen. Voor iedereen\, zowel beginners als gevorderde .
URL:https://cocnoordoostbrabant.nl/event/volleybal/2030-05-02/
LOCATION:‘s-Hertogenbosch\, 's-Hertogenbosch
CATEGORIES:Sport
ATTACH;FMTTYPE=image/jpeg:https://cocnoordoostbrabant.nl/wordpress/wp-content/uploads/2024/11/IMG_8465.jpeg
ORGANIZER;CN="Regenboogsportclub Zoete Lieve Gerritje":MAILTO:info@zlgdenbosch.nl
END:VEVENT
BEGIN:VEVENT
DTSTART;TZID=Europe/Amsterdam:20300504T093000
DTEND;TZID=Europe/Amsterdam:20300504T103000
DTSTAMP:20260420T205005
CREATED:20250216T121535Z
LAST-MODIFIED:20250216T121535Z
UID:10002139-1904117400-1904121000@cocnoordoostbrabant.nl
SUMMARY:Hardlopen met ZLG
DESCRIPTION:Elke zaterdagochtend om 9.30 uur loopt onze hardloopgroep het mooie rondje om de IJzeren Vrouw in het Prins Hendrikpark in Den Bosch. Iedereen is welkom! Of je nu al jaren hardloopt of een echte beginner bent. \nAfstand en tempo\nJe loopt op eigen tempo een afstand naar keuze. Een\, twee\, drie of vier rondjes\, dat bepaal je helemaal zelf. Een rondje is ongeveer 1\,8 km. Na afloop komen we weer samen voor koffie en iets lekkers bij het gezellige theehuis in het park. \nOok een keer meelopen?\nGezellig! Kijk op deze site voor de contactmogelijkheden.
URL:https://cocnoordoostbrabant.nl/event/hardlopen-met-zlg/2030-05-04/
LOCATION:IJzerenvrouw\, 's-Hertogenbosch
CATEGORIES:Sport
ATTACH;FMTTYPE=image/jpeg:https://cocnoordoostbrabant.nl/wordpress/wp-content/uploads/2025/02/IMG_8465-1.jpeg
ORGANIZER;CN="Regenboogsportclub Zoete Lieve Gerritje":MAILTO:info@zlgdenbosch.nl
END:VEVENT
END:VCALENDAR